BEGIN:VCALENDAR
VERSION:2.0
PRODID:-//wp-events-plugin.com//7.0.5//EN
TZID:America/Los_Angeles
X-WR-TIMEZONE:America/Los_Angeles
BEGIN:VEVENT
UID:24@onc-pdx.org
DTSTART;TZID=America/Los_Angeles;VALUE=DATE:20150214
DTEND;TZID=America/Los_Angeles;VALUE=DATE:20150223
DTSTAMP:20150206T003606Z
URL:https://onc-pdx.org/events/yellowstone-national-park-dream-trip-wy/
SUMMARY:Yellowstone National Park Dream Trip\, WY
DESCRIPTION:Sign-up by January 15You have been there in the summer with all
  the tourists. You have heard about it from others who have been there in 
 the winter. Now it is YOUR opportunity to experience the dream: YELLOWSTON
 E IN WINTER! Twenty lucky people will have the opportunity of a lifetime t
 his ski season for this Presidents’ Weekend ski trip.We’ll carpool fro
 m Portland on Saturday\, February 14\, arriving Sunday afternoon\, at Mamm
 oth Hot Springs near the north entrance to Yellowstone National Park and s
 taying at the historic Mammoth Hot Springs Hotel\, where we’ll meet for 
 dinner. Accommodations are in rooms with double beds and shared bath. On M
 onday morning\, a snow-coach ride takes us to Old Faithful where we move i
 nto modern western cabins with two queen beds per room and private baths. 
 For three days of skiing among the magnificent geysers\, including those i
 n the Old Faithful basin and Lone Star Geyser\, up to the Continental Divi
 de\, the Mallard Lake Trail\, all while viewing elk and bison (and perhaps
  wolves)\, catching the Yellowstone that most tourists miss. We expect dry
  snow and clear days. On Thursday afternoon\, we will return to Mammoth Ho
 t Springs for two more nights. On Friday and Saturday\, we will ski in are
 as accessible from the Mammoth Basin Area – either Tower or Indian Creek
  areas or you can book (individually) a trip to the Grand Canyon of the Ye
 llowstone. Sunday morning after breakfast\, we take off for home\, relaxed
  and full of stories of our adventures and wild animal sightings. There is
  a wide selection of trails available\, from beginning to advanced\, somet
 hing for every desire.For those who wish\, there is an option for beginnin
 g the trip a few days early or extending the trip for one or more days at 
 the end. It is also possible to fly to Bozeman to avoid the drive. Please 
 contact the tour leader for information. This trip fills up quickly so sig
 n up early.Trip limit: 20 participants\, including the leader.Cost: $825 p
 er person\; you must be a current ONC member before signing up for this tr
 ip. Includes seven-nights lodging and breakfasts (four at Mammoth and thre
 e at Old Faithful) and snow-coach to Old Faithful and return to Mammoth. W
 e’ll have reservations for dinners (costs not included) at the Mammoth d
 ining room and Old Faithful Snow Lodge dining room. Costs for carpooling a
 nd lodging en-route are not included. Special rates are available for chil
 dren under 12 sharing a room with parents.Contact leader for space availab
 ility.  Send your ONC-PDx overnight tour application and $500 deposit che
 ck payable to ONC-Portland Chapter to the trip leader by January 15: Ted S
 cheinman\, 36 SW Brugger St.\, Portland\, OR 97219. There will be a pre-tr
 ip meeting scheduled to plan for details and carpool. For more info contac
 t Ted 503 452-7432 tedskier@gmail.com.
CATEGORIES:Backcountry Ski/Telemarking,Cross Country Ski,Snowshoe
END:VEVENT
BEGIN:VTIMEZONE
TZID:America/Los_Angeles
X-LIC-LOCATION:America/Los_Angeles
BEGIN:STANDARD
DTSTART:20141102T010000
TZOFFSETFROM:-0700
TZOFFSETTO:-0800
TZNAME:PST
END:STANDARD
END:VTIMEZONE
END:VCALENDAR