BEGIN:VCALENDAR
VERSION:2.0
PRODID:-//wp-events-plugin.com//7.0.5//EN
TZID:America/Los_Angeles
X-WR-TIMEZONE:America/Los_Angeles
BEGIN:VEVENT
UID:747@onc-pdx.org
DTSTART;TZID=America/Los_Angeles:20200826T091500
DTEND;TZID=America/Los_Angeles:20200826T150000
DTSTAMP:20200823T203044Z
URL:https://onc-pdx.org/events/yellow-jacket-trail-diamonds-and-brushing-a
 nd-limbing-mt-hood-or/
SUMMARY:Yellow Jacket and Boy Scout Ridge\, Mt. Hood\, OR
DESCRIPTION:Come on out to help restore this good connector trail and enjoy
  a day in the woods.\n\nPlan on brushing\, limbing overgrowth\, and hangin
 g blue diamonds. Bring COVID mask\, glasses or protective eyewear and work
  gloves.&nbsp\; Wear long pants\, long sleeve shirt and boots\, have bug j
 uice and sunscreen\, plenty of water\, snacks and lunch. ONC will provide 
 tools and hard hats.&nbsp\;&nbsp\;\n\nEach person or family unit must driv
 e in separate cars ( SORRY no CAR Pools). Meet at the White River snow par
 k at 9:30am.\n\nSign up below or for more info contact the leader: Ken Wen
 zel 503.729.6571 (call or text) skiwenzel@hotmail.com\n\nSelect the number
  of spaces for all of the people in your party and provide their contact i
 nformation where indicated.
CATEGORIES:Trail Tending
LOCATION:Barlow Pass Sno-park\, Hwy. 35\, Mt Hood\, OR\, United States
X-APPLE-STRUCTURED-LOCATION;VALUE=URI;X-ADDRESS=Hwy. 35\, Mt Hood\, OR\, Un
 ited States;X-APPLE-RADIUS=100;X-TITLE=Barlow Pass Sno-park:geo:0,0
END:VEVENT
BEGIN:VTIMEZONE
TZID:America/Los_Angeles
X-LIC-LOCATION:America/Los_Angeles
BEGIN:DAYLIGHT
DTSTART:20200308T030000
TZOFFSETFROM:-0800
TZOFFSETTO:-0700
TZNAME:PDT
END:DAYLIGHT
END:VTIMEZONE
END:VCALENDAR