BEGIN:VCALENDAR
VERSION:2.0
PRODID:-//wp-events-plugin.com//7.0.5//EN
TZID:America/Los_Angeles
X-WR-TIMEZONE:America/Los_Angeles
BEGIN:VEVENT
UID:1302@onc-pdx.org
DTSTART;TZID=America/Los_Angeles:20260304T083000
DTEND;TZID=America/Los_Angeles:20260304T170000
DTSTAMP:20260226T224016Z
URL:https://onc-pdx.org/events/xc-ski-sahalie-falls-and-environs/
SUMMARY:XC Ski Sahalie Falls and Environs
DESCRIPTION:XC Ski Wed. Mar. 4\, 2026 Beginner\, Intermediate\nSahalai Fall
 s and Environs\, OR\n\nWinter conditions appear to be holding for Sahalie 
 Falls area. Snow conditions may still be a little sparse. We will ski the 
 falls area and possibly Bennett Pass (3-5 mi 300-500 ft elev. gain.) Inter
 mediate skiers will be self directed. If we encounter icing or crunchy sno
 w\, leader will bring baling twine chains to convert your skis to snowshoe
 s. If descent is overly fast\, leader will also have drag chains to slow y
 ou down.\n\nFor carpool\, meet at 8:30 am Wed. at Troutdale old town parki
 ng\, just north of Main St.\nDog not allowed on tour\nPlease confirm atten
 dance by contacting leader\, Mike Dianich\, 971-344-1021 (txt first.)\n\n&
 nbsp\;
CATEGORIES:Cross Country Ski,Day Tours
LOCATION:Oldtown Troutdale (next to railroad tracks)\, 101 Historic Columbi
 a River Hwy.\, Troutdale\, OR\, 97060\, United States
X-APPLE-STRUCTURED-LOCATION;VALUE=URI;X-ADDRESS=101 Historic Columbia River
  Hwy.\, Troutdale\, OR\, 97060\, United States;X-APPLE-RADIUS=100;X-TITLE=
 Oldtown Troutdale (next to railroad tracks):geo:0,0
END:VEVENT
BEGIN:VTIMEZONE
TZID:America/Los_Angeles
X-LIC-LOCATION:America/Los_Angeles
BEGIN:STANDARD
DTSTART:20251102T010000
TZOFFSETFROM:-0700
TZOFFSETTO:-0800
TZNAME:PST
END:STANDARD
END:VTIMEZONE
END:VCALENDAR