BEGIN:VCALENDAR
VERSION:2.0
PRODID:-//wp-events-plugin.com//7.0.5//EN
TZID:America/Los_Angeles
X-WR-TIMEZONE:America/Los_Angeles
BEGIN:VEVENT
UID:1300@onc-pdx.org
DTSTART;TZID=America/Los_Angeles:20260221T083000
DTEND;TZID=America/Los_Angeles:20260221T170000
DTSTAMP:20260218T204905Z
URL:https://onc-pdx.org/events/xc-ski-beginner-intermediate-cross-town-tra
 il-govt-camp-or/
SUMMARY:XC Ski -  Beginner\, Intermediate -  Cross Town Trail\, Govt. Camp\
 , OR
DESCRIPTION:Winter appears to finally have arrived\, but may not last very 
 long Sooo\, if you would like to ski\, please note. Snow conditions may st
 ill be a little sparse. We will ski from Glacier View Snowpark over to Sum
 mit Ski area\, have a break) and return via our tracks (5.6 mi RT 4\,100 f
 t elev. gain.) Note: we will not be crossing Hwy 26. If we encounter icing
  or crunchy snow\, leader will bring baling twine chains to convert your s
 kis to snowshoes. If descent is overly fast\, leader will also have drag c
 hains to slow you down.\n\n&nbsp\;\n\nFor carpool\, meet at 8:30 am Sat. a
 t Troutdale old town parking\, just north of Main St.\n\nPlease confirm at
 tendance by contacting leader\, Mike Dianich\, 971-344-1021 (txt first.)\n
 \n&nbsp\;
CATEGORIES:Cross Country Ski,Day Tours
LOCATION:Troutdale Public Parking (behind Police Station)\, 140 Buxton Rd\,
  Troutdale\, OR\, 97060\, United States
X-APPLE-STRUCTURED-LOCATION;VALUE=URI;X-ADDRESS=140 Buxton Rd\, Troutdale\,
  OR\, 97060\, United States;X-APPLE-RADIUS=100;X-TITLE=Troutdale Public Pa
 rking (behind Police Station):geo:0,0
END:VEVENT
BEGIN:VTIMEZONE
TZID:America/Los_Angeles
X-LIC-LOCATION:America/Los_Angeles
BEGIN:STANDARD
DTSTART:20251102T010000
TZOFFSETFROM:-0700
TZOFFSETTO:-0800
TZNAME:PST
END:STANDARD
END:VTIMEZONE
END:VCALENDAR