BEGIN:VCALENDAR
VERSION:2.0
PRODID:-//wp-events-plugin.com//7.0.5//EN
TZID:America/Los_Angeles
X-WR-TIMEZONE:America/Los_Angeles
BEGIN:VEVENT
UID:922@onc-pdx.org
DTSTART;TZID=America/Los_Angeles:20220424T060000
DTEND;TZID=America/Los_Angeles:20220424T194500
DTSTAMP:20220419T170407Z
URL:https://onc-pdx.org/events/wyeast-tour/
SUMMARY:WyEast Tour
DESCRIPTION:Description\nGet two weekends worth of skiing in on one day. We
 ’ll set up a car shuttle and then ski from Glacier View Sno Park (by Ski
  Bowl) all the way to Pocket Creek. We’ll gain ~2\,500 feet\, drop a lit
 tle less and  cover ~18 miles as we ski some of my favorite trails: Cross
  Town\, Yellow Jacket\, White River\, Bennett Pass\, and Meadows Creek Tie
  Trail.  This is an advanced tour both in distance and in technical skiin
 g required (Yellow Jacket trail is very advanced). This will be a long day
  with 9+ hours on the snow.\n\nTour Difficulty: ADVANCED\n\nCarpooling Loc
 ation\n6 AM at Troutdale Mall in center of Parking Lot.\n\nAre dogs allowe
 d on this tour?:        NO\n\nTrip Leader Name:     Scott Diamo
 nd\nContact info:   scott.diamond.mail@gmail.com  mobile: 503.643.6779\
 n\nSki Start Location\nCar shuttle setup from Glacier view to Pocket Creek
CATEGORIES:Cross Country Ski,Day Tours
LOCATION:Outlet Mall Troutdale\, 450 NW 257th\, Troutdale\, OR\, 97060\, Un
 ited States
X-APPLE-STRUCTURED-LOCATION;VALUE=URI;X-ADDRESS=450 NW 257th\, Troutdale\, 
 OR\, 97060\, United States;X-APPLE-RADIUS=100;X-TITLE=Outlet Mall Troutdal
 e:geo:0,0
END:VEVENT
BEGIN:VTIMEZONE
TZID:America/Los_Angeles
X-LIC-LOCATION:America/Los_Angeles
BEGIN:DAYLIGHT
DTSTART:20220313T030000
TZOFFSETFROM:-0800
TZOFFSETTO:-0700
TZNAME:PDT
END:DAYLIGHT
END:VTIMEZONE
END:VCALENDAR