BEGIN:VCALENDAR
VERSION:2.0
PRODID:-//wp-events-plugin.com//7.0.5//EN
TZID:America/Los_Angeles
X-WR-TIMEZONE:America/Los_Angeles
BEGIN:VEVENT
UID:786@onc-pdx.org
DTSTART;TZID=America/Los_Angeles;VALUE=DATE:20210305
DTEND;TZID=America/Los_Angeles;VALUE=DATE:20210309
DTSTAMP:20201012T002833Z
URL:https://onc-pdx.org/events/womens-ski-weekend-in-bend/
SUMMARY:Women’s Ski Weekend in Bend
DESCRIPTION:Bend\, OR\nMar. 5 - 8\, Fri - Mon\nAll abilities ski on groomed
  trails and backcountry\n\nCome and join an all women’s ski weekend in b
 eautiful Bend\, Oregon. We’ll have numerous skiing choices\, both groome
 d and backcountry: Mt Bachelor\, Virginia Meissner\, and a number of other
  area Sno-Parks. Depending on the weather and ski conditions\, there will 
 be opportunities for hiking\, biking\, walking the paths at the Deschutes 
 River as well as shopping in Bend\, Sisters\, or Sunriver. Trail fees appl
 y at Mt Bachelor and Virginia Meissner\, Sno-Park permits for all others.\
 n\nWe will be staying at the Best Western Plus Bend North. The rooms consi
 st of two queen beds ( 2 persons per room unless a request for their own r
 oom). Amenities are: breakfast included\, microwave\, refrigerator\, coffe
 e maker\, free wi-fi and TV. Price varies from $87.00 to $99.00 per night 
 depending if AARP or other discount applies\, plus 11% approximate room ta
 x. Per person: $145- $165 for 3 nights\, based on shared room.&nbsp\; Each
  person will be responsible for their own meals:&nbsp\; Eat in\, take-out\
 , or restaurants close by.\n\nTrip limit:&nbsp\; 8 participants including 
 trip leaders.\nCost: $10/member registration on ONC-PDX website.&nbsp\; Lo
 dging per member: $145- $165 for 3 nights\, based on shared room.&nbsp\; P
 ay the registration fee and contact the leader for info about booking the 
 rooms.&nbsp\; Does not include trail fees at Mt. Bachelor nor Meissner. Tr
 avel costs and meals not included in above.&nbsp\;\nTravel miles:&nbsp\; 3
 50 miles roundtrip from Portland plus daily excursions to trailheads.\nTri
 p leaders:&nbsp\; Nancy Neuman\, nanc0301@yahoo.com
CATEGORIES:Cross Country Ski
END:VEVENT
BEGIN:VTIMEZONE
TZID:America/Los_Angeles
X-LIC-LOCATION:America/Los_Angeles
BEGIN:STANDARD
DTSTART:20201101T010000
TZOFFSETFROM:-0700
TZOFFSETTO:-0800
TZNAME:PST
END:STANDARD
END:VTIMEZONE
END:VCALENDAR