BEGIN:VCALENDAR
VERSION:2.0
PRODID:-//wp-events-plugin.com//7.0.5//EN
TZID:America/Los_Angeles
X-WR-TIMEZONE:America/Los_Angeles
BEGIN:VEVENT
UID:699@onc-pdx.org
DTSTART;TZID=America/Los_Angeles;VALUE=DATE:20191221
DTEND;TZID=America/Los_Angeles;VALUE=DATE:20191222
DTSTAMP:20191217T014807Z
URL:https://onc-pdx.org/events/winter-solstice-easy-ski/
SUMMARY:Winter Solstice Easy Ski
DESCRIPTION:Let's celebrate Winter Solstice on an Intermediate-level day ou
 ting on Mt. Hood on Saturday\, Dec. 21st. You will need to wear proper clo
 thing and bring gear in working order for a 3- to 5-mile ski tour on flat 
 trails to gentle hills\, as it is still early in the season for many of us
 ! Also\, carry water\, pack a lunch\, and have the 10 Essentials\, as well
  as bring cash for gas money to cover the expense of the trip\, or be will
 ing to drive your own vehicle. Tentative plans are for the Government Camp
  area\, depending on snow conditions. We would meet on the Eastside on Sat
 urday morning before heading to the hills. This will be an official ONC Da
 y Outing so the group will ski together. Please contact Christine Bierman 
 971-325-2874 by phone or text\, or reply here by no later than Thursday\, 
 Dec. 19th. Let me know your ability level\, preference for trails\, and if
  you can drive or will need a ride.
END:VEVENT
BEGIN:VTIMEZONE
TZID:America/Los_Angeles
X-LIC-LOCATION:America/Los_Angeles
BEGIN:STANDARD
DTSTART:20191103T010000
TZOFFSETFROM:-0700
TZOFFSETTO:-0800
TZNAME:PST
END:STANDARD
END:VTIMEZONE
END:VCALENDAR