BEGIN:VCALENDAR
VERSION:2.0
PRODID:-//wp-events-plugin.com//7.0.5//EN
TZID:America/Los_Angeles
X-WR-TIMEZONE:America/Los_Angeles
BEGIN:VEVENT
UID:991@onc-pdx.org
DTSTART;TZID=America/Los_Angeles:20230125T080000
DTEND;TZID=America/Los_Angeles:20230125T170000
DTSTAMP:20230103T142306Z
URL:https://onc-pdx.org/events/white-river-snow-park-boyscout-ridge-loop-d
 ay-tour/
SUMMARY:White River Snow Park - Boy Scout Ridge Loop Day Tour
DESCRIPTION:Description: White River Snow Park - Boyscout Ridge Loop\n\nSki
  Level: Intermediate - Advanced\n\nDate: Wednesday\, January 25\, 2023\n\n
 Meeting Place &amp\; Time:\nMeet at Oldtown Troutdale Public Lot at 8 AM n
 ext to the railroad tracks\, 115 W Historic Columbia River Hwy. (see map b
 elow)\n\n\nTour Leader: Ken Wenzel\, skiwenzel@hotmail.com Cell - 503-729-
 6571&nbsp\; &nbsp\; Home Phone 503-297-2958\n\n
CATEGORIES:Cross Country Ski,Day Tours
LOCATION:Oldtown Troutdale (next to railroad tracks)\, 101 Historic Columbi
 a River Hwy.\, Troutdale\, OR\, 97060\, United States
X-APPLE-STRUCTURED-LOCATION;VALUE=URI;X-ADDRESS=101 Historic Columbia River
  Hwy.\, Troutdale\, OR\, 97060\, United States;X-APPLE-RADIUS=100;X-TITLE=
 Oldtown Troutdale (next to railroad tracks):geo:0,0
END:VEVENT
BEGIN:VTIMEZONE
TZID:America/Los_Angeles
X-LIC-LOCATION:America/Los_Angeles
BEGIN:STANDARD
DTSTART:20221106T010000
TZOFFSETFROM:-0700
TZOFFSETTO:-0800
TZNAME:PST
END:STANDARD
END:VTIMEZONE
END:VCALENDAR