BEGIN:VCALENDAR
VERSION:2.0
PRODID:-//wp-events-plugin.com//7.0.5//EN
TZID:America/Los_Angeles
X-WR-TIMEZONE:America/Los_Angeles
BEGIN:VEVENT
UID:1213@onc-pdx.org
DTSTART;TZID=America/Los_Angeles:20250322T090000
DTEND;TZID=America/Los_Angeles:20250322T173000
DTSTAMP:20250314T172015Z
URL:https://onc-pdx.org/events/white-pass-washington-nordic-center-interme
 diate-advanced/
SUMMARY:White Pass\, Washington  Nordic Center - Intermediate/Advanced
DESCRIPTION:Trip Rating:  Intermediate-Advanced\n\nSkiing on groomed trail
 s at White Pass.\n\nThere may be accommodations at White Pass for a limite
 d number of people within walking distance of the Nordic Center on Saturda
 y March 22nd. Requires Leader Permission. This is a communal bunk lodge. C
 ost for a bunk for guests is $15. Saturday dinner and Sunday breakfast\, i
 f provided costs $13. If meals are not provided\, skiers bring their own f
 ood.\n\nFor more information contact David Overton (natmeds@gmail.com)
CATEGORIES:Cross Country Ski,Day Tours
LOCATION:White Pass Nordic Center\, 48935 US Hwy 12\, Naches\, WA\, 98937\,
  United States
X-APPLE-STRUCTURED-LOCATION;VALUE=URI;X-ADDRESS=48935 US Hwy 12\, Naches\, 
 WA\, 98937\, United States;X-APPLE-RADIUS=100;X-TITLE=White Pass Nordic Ce
 nter:geo:0,0
END:VEVENT
BEGIN:VTIMEZONE
TZID:America/Los_Angeles
X-LIC-LOCATION:America/Los_Angeles
BEGIN:DAYLIGHT
DTSTART:20250309T030000
TZOFFSETFROM:-0800
TZOFFSETTO:-0700
TZNAME:PDT
END:DAYLIGHT
END:VTIMEZONE
END:VCALENDAR