BEGIN:VCALENDAR
VERSION:2.0
PRODID:-//wp-events-plugin.com//7.0.5//EN
TZID:America/Los_Angeles
X-WR-TIMEZONE:America/Los_Angeles
BEGIN:VEVENT
UID:841@onc-pdx.org
DTSTART;TZID=America/Los_Angeles;VALUE=DATE:20220115
DTEND;TZID=America/Los_Angeles;VALUE=DATE:20220124
DTSTAMP:20211201T012140Z
URL:https://onc-pdx.org/events/western-montanas-best-nordic-skiing/
SUMMARY:Western Montana’s Best Nordic Skiing
DESCRIPTION:Trip Rating: For Intermediate to advanced skiers\, groomed and 
 ungroomed trails. Skate and Classic skiing.\nBasecamp: Spokane\, WA\, Big 
 Mountain\, MT\, Missoula\, MT\n\nLeave PDX Saturday January 15. Stay 2 nig
 hts in Spokane\, WA .&nbsp\; Plan on skiing Sunday at Mt. Spokane State Pa
 rk groomed skiing.&nbsp\;\n\nMonday\, Tuesday and Wednesday nights stay at
  at Big Mountain Resort in Whitefish\, MT.&nbsp\; Skiing at Big Mountain T
 rails\, Blacktail Mountain\, and Glacier NP.\n\nThursday drive to Missoula
 \, MT and ski Seeley Lake en route.&nbsp\; Stay at a cozy house in the Uni
 versity District Thursday\, Friday and Saturday nights.&nbsp\; Skiing at e
 ither Lubrecht XC Trails\, Mt. Haggin\, Echo Lake\, Homestake Lodge\, Chie
 f Joseph Pass\, Georgetown Lake. So many choices\, where to start?\n\nWe w
 ill plan on sharing in the cost of food and cooking each meal\,&nbsp\;\n\n
 Sunday Drive home&nbsp\; 552 miles 9 Hr.&nbsp\; Cars must have AWD with Sn
 ow Tires\n\nTrip limit:&nbsp\; 8 participants including trip leader\nCost:
  $655/member\, per person.&nbsp\; Includes 8 nights lodging.&nbsp\; Estima
 te for Food $100 per person.\nCarpool miles:&nbsp\; Approximately 1500 mil
 es roundtrip from Portland plus excursions to trailheads.\nTrip Leader:&nb
 sp\; Ken Wenzel\, skiwenzel@hotmail.com
CATEGORIES:Cross Country Ski,Skate Ski
END:VEVENT
BEGIN:VTIMEZONE
TZID:America/Los_Angeles
X-LIC-LOCATION:America/Los_Angeles
BEGIN:STANDARD
DTSTART:20211107T010000
TZOFFSETFROM:-0700
TZOFFSETTO:-0800
TZNAME:PST
END:STANDARD
END:VTIMEZONE
END:VCALENDAR