BEGIN:VCALENDAR
VERSION:2.0
PRODID:-//wp-events-plugin.com//7.0.5//EN
TZID:America/Los_Angeles
X-WR-TIMEZONE:America/Los_Angeles
BEGIN:VEVENT
UID:947@onc-pdx.org
DTSTART;TZID=America/Los_Angeles;VALUE=DATE:20230108
DTEND;TZID=America/Los_Angeles;VALUE=DATE:20230116
DTSTAMP:20221229T152412Z
URL:https://onc-pdx.org/events/western-montanas-best-nordic-skiing-2/
SUMMARY:Western Montana’s Best Nordic Skiing
DESCRIPTION:Spokane\, WA\, Big Mountain\, MT\, Missoula\, MT\nJan. 8-15\, S
 un-Sun\nFor Intermediate to advanced skiers\, groomed and ungroomed trails
 . Skate and Classic skiing.\n\nThere are 2 options for getting to your dre
 am ski vacation: Carpooling from Portland on Sunday\, January 8 and making
  the long drive to Missoula\, or leaving a day earlier and&nbsp\; driving 
 to Spokane with a ski stop&nbsp\; Sunday at either Mt. Spokane or 4th of J
 uly pass en route to Missoula.\n\nWe stay Sunday night at the Wyndham Airp
 ort Motel in Missoula\, have an early breakfast Monday morning\, and then 
 take a short drive to Seeley Lake for a day of excellent skiing.&nbsp\; It
  is groomed for both skate and classic with an excellent forest trail netw
 ork as well\, designed by an Olympic Skier.\n\nAfter skiing we will drive 
 for 2 ½ hours to Georgetown Lake by Anaconda\, where we will stay for 6 n
 ights at a wonderful log house overlooking the lake. We will ski at severa
 l different areas including the fantastic Echo Lake Nordic\, Chief Joseph 
 Pass\, Homestake Lodge\, Mt. Haggin Nordic trails.&nbsp\; Possibly\, this 
 is followed by a visit to Elkhorn Hot Springs (bring a swimsuit).\n\nWe wi
 ll see wildlife and beautiful landscapes in this part of southwestern of M
 ontana.&nbsp\; These areas have a mix of groomed and ungroomed ski trails 
 and no crowds. If you are interested in lift skiing\, Discovery Basin is a
  very nice downhill ski area next to Echo Lake Nordic.&nbsp\;\n\nWe will p
 lan on shared breakfasts and dinners at the Georgetown Lake property.&nbsp
 \; Plan on bringing your own lunches. Most of these ski areas are voluntee
 r-run and they request donations\, so bring some small bills to donate for
  grooming.\n\nTo see photos from last year\, click here.\n\nTrip limit:&nb
 sp\; 10 participants including trip leader\nCost: $410 per member/person.&
 nbsp\; Includes 8 nights lodging. Not included are carpooling expenses and
  the cost of shared meals at the house\, some meals when traveling\, and a
  few trail fees at private properties.&nbsp\; Also\, those additional cost
 s for those choosing to leave on Jan. 7 for the extra day of skiing.\nCarp
 ool miles:&nbsp\; Approximately 1\,700 miles roundtrip from Portland inclu
 ding side trips.\nTrip Leader:&nbsp\; Ken Wenzel\, skiwenzel@hotmail.com
CATEGORIES:Cross Country Ski
END:VEVENT
BEGIN:VTIMEZONE
TZID:America/Los_Angeles
X-LIC-LOCATION:America/Los_Angeles
BEGIN:STANDARD
DTSTART:20221106T010000
TZOFFSETFROM:-0700
TZOFFSETTO:-0800
TZNAME:PST
END:STANDARD
END:VTIMEZONE
END:VCALENDAR