BEGIN:VCALENDAR
VERSION:2.0
PRODID:-//wp-events-plugin.com//7.0.5//EN
TZID:America/Los_Angeles
X-WR-TIMEZONE:America/Los_Angeles
BEGIN:VEVENT
UID:710@onc-pdx.org
DTSTART;TZID=America/Los_Angeles:20200122T085000
DTEND;TZID=America/Los_Angeles:20200122T163000
DTSTAMP:20200120T050620Z
URL:https://onc-pdx.org/events/wednesday-ski-tour-8/
SUMMARY:Wednesday Ski Tour - Pocket Creek
DESCRIPTION:Come join us for a mid-week ski tour. Pocket Creek with it's ea
 sy grades\, open terrain and spectacular views (if weather allows) make th
 is an outstanding day tour of about 5.5 miles. Let's have an easy ski and 
 comradarie on a wonderful Wednesday. Meet at McMenamins Edgefield’s West
  parking lot at 8:50 a.m. to carpool leaving at 9:00 a.m. For more info co
 ntact: Laurel Dickie\, laureldickie@hotmail.com\, or call/text: 503-415-19
 22 (please identify yourself as ONC)
CATEGORIES:Cross Country Ski
LOCATION:\, \, 
X-APPLE-STRUCTURED-LOCATION;VALUE=URI;X-ADDRESS=\, ;X-APPLE-RADIUS=100;X-TI
 TLE=:geo:0,0
END:VEVENT
BEGIN:VTIMEZONE
TZID:America/Los_Angeles
X-LIC-LOCATION:America/Los_Angeles
BEGIN:STANDARD
DTSTART:20191103T010000
TZOFFSETFROM:-0700
TZOFFSETTO:-0800
TZNAME:PST
END:STANDARD
END:VTIMEZONE
END:VCALENDAR