BEGIN:VCALENDAR
VERSION:2.0
PRODID:-//wp-events-plugin.com//7.0.5//EN
TZID:America/Los_Angeles
X-WR-TIMEZONE:America/Los_Angeles
BEGIN:VEVENT
UID:716@onc-pdx.org
DTSTART;TZID=America/Los_Angeles:20200219T085000
DTEND;TZID=America/Los_Angeles:20200219T163000
DTSTAMP:20200115T054118Z
URL:https://onc-pdx.org/events/wednesday-ski-tour-12/
SUMMARY:Wednesday Ski Tour
DESCRIPTION:Location TBD Come join us for a mid-week ski tour. The trail wi
 ll depend on snow conditions\; we’ll ski where the snow is good. Meet at
  McMenamins Edgefield’s West parking lot at 8:50 a.m. to carpool leaving
  at 9:00 a.m. For more info contact: Terry Owen 503-590-5825 (landline)  
  terryowen1@gmail.com
CATEGORIES:Cross Country Ski
LOCATION:\, \, 
X-APPLE-STRUCTURED-LOCATION;VALUE=URI;X-ADDRESS=\, ;X-APPLE-RADIUS=100;X-TI
 TLE=:geo:0,0
END:VEVENT
BEGIN:VTIMEZONE
TZID:America/Los_Angeles
X-LIC-LOCATION:America/Los_Angeles
BEGIN:STANDARD
DTSTART:20191103T010000
TZOFFSETFROM:-0700
TZOFFSETTO:-0800
TZNAME:PST
END:STANDARD
END:VTIMEZONE
END:VCALENDAR