BEGIN:VCALENDAR
VERSION:2.0
PRODID:-//wp-events-plugin.com//7.0.5//EN
TZID:America/Los_Angeles
X-WR-TIMEZONE:America/Los_Angeles
BEGIN:VEVENT
UID:715@onc-pdx.org
DTSTART;TZID=America/Los_Angeles:20200212T085000
DTEND;TZID=America/Los_Angeles:20200212T163000
DTSTAMP:20200209T220807Z
URL:https://onc-pdx.org/events/wednesday-ski-tour-11/
SUMMARY:Wednesday Ski Tour - Pocket Creek
DESCRIPTION:I've wanted to do Pocket Creek for some time now. Won't you joi
 n me?The trail will depend on snow conditions\; we’ll ski where the snow
  is good but hopefully do "the loop" starting from the Pocket Creek snow p
 ark.  Meet at McMenamins Edgefield’s West parking lot at 8:50 a.m. to c
 arpool leaving at 9:00 a.m. For more info contact: Laurel Dickie 503-415-1
 922 (call or text\; when texting please identify as ONC)  laureldickie!ho
 tmail.com
CATEGORIES:Cross Country Ski
LOCATION:\, \, 
X-APPLE-STRUCTURED-LOCATION;VALUE=URI;X-ADDRESS=\, ;X-APPLE-RADIUS=100;X-TI
 TLE=:geo:0,0
END:VEVENT
BEGIN:VTIMEZONE
TZID:America/Los_Angeles
X-LIC-LOCATION:America/Los_Angeles
BEGIN:STANDARD
DTSTART:20191103T010000
TZOFFSETFROM:-0700
TZOFFSETTO:-0800
TZNAME:PST
END:STANDARD
END:VTIMEZONE
END:VCALENDAR