BEGIN:VCALENDAR
VERSION:2.0
PRODID:-//wp-events-plugin.com//7.0.5//EN
TZID:America/Los_Angeles
X-WR-TIMEZONE:America/Los_Angeles
BEGIN:VEVENT
UID:700@onc-pdx.org
DTSTART;TZID=America/Los_Angeles:20191218T085000
DTEND;TZID=America/Los_Angeles:20191218T163000
DTSTAMP:20191217T015242Z
URL:https://onc-pdx.org/events/wednesday-ski-on-mt-hood/
SUMMARY:Wednesday Ski on Mt. Hood
DESCRIPTION:There is a choice on Wednesday and one of them is going to Teac
 up.  The Teacup group will also meet in the west parking lot at Edgefield
  McMenamins in Troutdale.  Please be there by 8:50 AM to sign-in and form
  carpools.  The group will leave at 9 AM.  Expect to return around 4:30 
 to 5 PM.  The Teacup trail fee is $10.  Bring your sno-park permit if yo
 u have one.  Please tell me if you can be a driver or only a rider.  So 
 please contact me\, Mary Hepokoski\, 503-442-0620 or hepomp8@comcast.net
  (provide a phone number also)\, if you want to ski at Teacup.
CATEGORIES:Cross Country Ski
LOCATION:\, \, 
X-APPLE-STRUCTURED-LOCATION;VALUE=URI;X-ADDRESS=\, ;X-APPLE-RADIUS=100;X-TI
 TLE=:geo:0,0
END:VEVENT
BEGIN:VTIMEZONE
TZID:America/Los_Angeles
X-LIC-LOCATION:America/Los_Angeles
BEGIN:STANDARD
DTSTART:20191103T010000
TZOFFSETFROM:-0700
TZOFFSETTO:-0800
TZNAME:PST
END:STANDARD
END:VTIMEZONE
END:VCALENDAR