BEGIN:VCALENDAR
VERSION:2.0
PRODID:-//wp-events-plugin.com//7.0.5//EN
TZID:America/Los_Angeles
X-WR-TIMEZONE:America/Los_Angeles
BEGIN:VEVENT
UID:1003@onc-pdx.org
DTSTART;TZID=America/Los_Angeles:20230208T080000
DTEND;TZID=America/Los_Angeles:20230208T170000
DTSTAMP:20230205T063417Z
URL:https://onc-pdx.org/events/wednesday-mt-hood-day-tour/
SUMMARY:Wednesday Easy Day Tour
DESCRIPTION:Andrew Black will be leading an easy day tour\, probably in SW 
 Washington if snow condition allow\, otherwise on  Mt Hood.  The locatio
 n may change due to snow conditions\, but likely options are Oldman Pass\,
  or the Bennet Pass Area.  (Both places feature snow-covered roads rather
  than wooded trails.)\n\nPlease sign up on the web site so I know who is i
 nterested.   Meet at 8am in Troutdale.\n\n&nbsp\;
CATEGORIES:Cross Country Ski,Day Tours
LOCATION:Troutdale Public Parking (behind Police Station)\, 140 Buxton Rd\,
  Troutdale\, OR\, 97060\, United States
X-APPLE-STRUCTURED-LOCATION;VALUE=URI;X-ADDRESS=140 Buxton Rd\, Troutdale\,
  OR\, 97060\, United States;X-APPLE-RADIUS=100;X-TITLE=Troutdale Public Pa
 rking (behind Police Station):geo:0,0
END:VEVENT
BEGIN:VTIMEZONE
TZID:America/Los_Angeles
X-LIC-LOCATION:America/Los_Angeles
BEGIN:STANDARD
DTSTART:20221106T010000
TZOFFSETFROM:-0700
TZOFFSETTO:-0800
TZNAME:PST
END:STANDARD
END:VTIMEZONE
END:VCALENDAR