BEGIN:VCALENDAR
VERSION:2.0
PRODID:-//wp-events-plugin.com//7.0.5//EN
TZID:America/Los_Angeles
X-WR-TIMEZONE:America/Los_Angeles
BEGIN:VEVENT
UID:694@onc-pdx.org
DTSTART;TZID=America/Los_Angeles:20191211T085000
DTEND;TZID=America/Los_Angeles:20191211T085000
DTSTAMP:20191208T021540Z
URL:https://onc-pdx.org/events/wednesday-intermediate-ski/
SUMMARY:Wednesday Intermediate Ski
DESCRIPTION:Teacup Nordic\, Mt. Hood\, ORWe plan on going to Teacup\, but w
 e’ll ski where the snow is good. Meet at McMenamins Edgefield’s West p
 arking lot at 8:50 a.m. to carpool leaving at 9:00 a.m. For more info\, an
 d to RSVP contact the leader: Mary Hepokoski 503.245.1618 hepomp8@comcast
 .net
CATEGORIES:Cross Country Ski
LOCATION:\, \, 
X-APPLE-STRUCTURED-LOCATION;VALUE=URI;X-ADDRESS=\, ;X-APPLE-RADIUS=100;X-TI
 TLE=:geo:0,0
END:VEVENT
BEGIN:VTIMEZONE
TZID:America/Los_Angeles
X-LIC-LOCATION:America/Los_Angeles
BEGIN:STANDARD
DTSTART:20191103T010000
TZOFFSETFROM:-0700
TZOFFSETTO:-0800
TZNAME:PST
END:STANDARD
END:VTIMEZONE
END:VCALENDAR