BEGIN:VCALENDAR
VERSION:2.0
PRODID:-//wp-events-plugin.com//7.0.5//EN
TZID:America/Los_Angeles
X-WR-TIMEZONE:America/Los_Angeles
BEGIN:VEVENT
UID:728@onc-pdx.org
DTSTART;TZID=America/Los_Angeles:20200311T085000
DTEND;TZID=America/Los_Angeles:20200311T163000
DTSTAMP:20200228T062741Z
URL:https://onc-pdx.org/events/wednesday-intermediate-ski-6/
SUMMARY:Wednesday Intermediate Ski
DESCRIPTION:Location TBD Come join us for a Wednesday ski tour. The trail w
 ill depend on snow conditions\; we’ll ski where the snow is good. Meet a
 t McMenamins Edgefield’s West parking lot at 8:50 a.m. to carpool leavin
 g at 9:00 a.m. For more info contact: Terry Owen 503.590.5825 terryowen1@g
 mail.com.
CATEGORIES:Cross Country Ski
LOCATION:\, \, 
X-APPLE-STRUCTURED-LOCATION;VALUE=URI;X-ADDRESS=\, ;X-APPLE-RADIUS=100;X-TI
 TLE=:geo:0,0
END:VEVENT
BEGIN:VTIMEZONE
TZID:America/Los_Angeles
X-LIC-LOCATION:America/Los_Angeles
BEGIN:DAYLIGHT
DTSTART:20200308T030000
TZOFFSETFROM:-0800
TZOFFSETTO:-0700
TZNAME:PDT
END:DAYLIGHT
END:VTIMEZONE
END:VCALENDAR