BEGIN:VCALENDAR
VERSION:2.0
PRODID:-//wp-events-plugin.com//7.0.5//EN
TZID:America/Los_Angeles
X-WR-TIMEZONE:America/Los_Angeles
BEGIN:VEVENT
UID:727@onc-pdx.org
DTSTART;TZID=America/Los_Angeles:20200304T085000
DTEND;TZID=America/Los_Angeles:20200304T163000
DTSTAMP:20200302T230943Z
URL:https://onc-pdx.org/events/wednesday-intermediate-ski-5/
SUMMARY:Wednesday Intermediate Ski - Teacup Nordic Center
DESCRIPTION:The weather report on the mountain for the next few days show a
  mix of snow and rain with little accumulation\, so skiing East of the mou
 ntain passes makes the most sense Wednesday.  While the group has gone to
  Teacup many times this year it looks like the best option for Wednesday. 
 (There is the option for those who want to do a backcountry ski and condit
 ions are good to do the Teacup Tie trail\, Pocket Creek Road\, Meadow Tie 
 Trail loop.) The group will meet in the west parking lot of Edgefield McM
 enamins.  Please be there by 8:50 AM to sign-in and form carpools.  The 
 group will leave at 9 AM.  Expect to return around 4:30 to 5 PM.  The Te
 acup trail fee is $10.  So please contact me\, Mary Hepokoski\, 503-442-0
 620 or hepomp8@comcast.net (provide a phone number also)\, if you want to 
 ski Wednesday and tell me if you can be a driver or only a rider.
CATEGORIES:Cross Country Ski
LOCATION:\, \, 
X-APPLE-STRUCTURED-LOCATION;VALUE=URI;X-ADDRESS=\, ;X-APPLE-RADIUS=100;X-TI
 TLE=:geo:0,0
END:VEVENT
BEGIN:VTIMEZONE
TZID:America/Los_Angeles
X-LIC-LOCATION:America/Los_Angeles
BEGIN:STANDARD
DTSTART:20191103T010000
TZOFFSETFROM:-0700
TZOFFSETTO:-0800
TZNAME:PST
END:STANDARD
END:VTIMEZONE
END:VCALENDAR