BEGIN:VCALENDAR
VERSION:2.0
PRODID:-//wp-events-plugin.com//7.0.5//EN
TZID:America/Los_Angeles
X-WR-TIMEZONE:America/Los_Angeles
BEGIN:VEVENT
UID:701@onc-pdx.org
DTSTART;TZID=America/Los_Angeles:20191225T085000
DTEND;TZID=America/Los_Angeles:20191225T163000
DTSTAMP:20191224T024953Z
URL:https://onc-pdx.org/events/wednesday-intermediate-ski-4/
SUMMARY:CANCELLED due to lack of snow Wednesday Intermediate Ski
DESCRIPTION:Location TBD Come join us for a Wednesday ski tour. The trail w
 ill depend on snow conditions\; we’ll ski where the snow is good. Meet a
 t McMenamins Edgefield’s West parking lot at 8:50 a.m. to carpool leavin
 g at 9:00 a.m. For more info contact:Kathy Burns 503-429-4024
CATEGORIES:Cross Country Ski
LOCATION:\, \, 
X-APPLE-STRUCTURED-LOCATION;VALUE=URI;X-ADDRESS=\, ;X-APPLE-RADIUS=100;X-TI
 TLE=:geo:0,0
END:VEVENT
BEGIN:VTIMEZONE
TZID:America/Los_Angeles
X-LIC-LOCATION:America/Los_Angeles
BEGIN:STANDARD
DTSTART:20191103T010000
TZOFFSETFROM:-0700
TZOFFSETTO:-0800
TZNAME:PST
END:STANDARD
END:VTIMEZONE
END:VCALENDAR