BEGIN:VCALENDAR
VERSION:2.0
PRODID:-//wp-events-plugin.com//7.0.5//EN
TZID:America/Los_Angeles
X-WR-TIMEZONE:America/Los_Angeles
BEGIN:VEVENT
UID:696@onc-pdx.org
DTSTART;TZID=America/Los_Angeles:20200101T084500
DTEND;TZID=America/Los_Angeles:20200101T163000
DTSTAMP:20191228T193152Z
URL:https://onc-pdx.org/events/wednesday-intermediate-ski-3/
SUMMARY:CANCELLED due to lack of snow -Wednesday Intermediate Ski
DESCRIPTION:Location TBDStart the New Year off right! Come join us for a We
 dnesday ski tour. The trail will depend on snow conditions\; we’ll ski w
 here the snow is good. Meet at McMenamins Edgefield’s West parking lot a
 t 8:50 a.m. to carpool leaving at 9:00 a.m. For more info contact: Laurel 
 Dickie\, laureldickie@hotmail.com\, 503-415-1922 (if texting\, please iden
 tify yourself as ONC)
CATEGORIES:Cross Country Ski
LOCATION:\, \, 
X-APPLE-STRUCTURED-LOCATION;VALUE=URI;X-ADDRESS=\, ;X-APPLE-RADIUS=100;X-TI
 TLE=:geo:0,0
END:VEVENT
BEGIN:VTIMEZONE
TZID:America/Los_Angeles
X-LIC-LOCATION:America/Los_Angeles
BEGIN:STANDARD
DTSTART:20191103T010000
TZOFFSETFROM:-0700
TZOFFSETTO:-0800
TZNAME:PST
END:STANDARD
END:VTIMEZONE
END:VCALENDAR