BEGIN:VCALENDAR
VERSION:2.0
PRODID:-//wp-events-plugin.com//7.0.5//EN
TZID:America/Los_Angeles
X-WR-TIMEZONE:America/Los_Angeles
BEGIN:VEVENT
UID:695@onc-pdx.org
DTSTART;TZID=America/Los_Angeles:20191218T090000
DTEND;TZID=America/Los_Angeles:20191218T163000
DTSTAMP:20191217T015642Z
URL:https://onc-pdx.org/events/wednesday-intermediate-ski-2/
SUMMARY:Wednesday Intermediate Ski - Bennett Ridge
DESCRIPTION:Tour will be Bennett Ridge\, all of which is on the road leadin
 g to Bonne Butte\, a possible turn around point but we will very unlikely 
 go that far. It's an out &amp\; back so we can U-turn at any point.  The 
 low snow conditions should make crossing the "terrible traverse" (mile 2.4
 ) very easy because the flat road should not be snow filled at an angle. 
  Forecast is for light snow now through Wednesday with nights in the 20s a
 nd days mid 30s degrees.If it's icy we will pick a flatter destination\, B
 ennett is a slight uphill ski to the Traverse.  If the weather gods give 
 our Christmas powder early we can consider other tours too.Email Russ at 
  russ.bec@gmail.com  or   call/text  360-901-3411  if you have quest
 ions and to confirm that you are going.  Meeting Edgefield west lot 9:00 
 AM (I will be there if I get confirmation from at least one person).
CATEGORIES:Cross Country Ski
LOCATION:\, \, 
X-APPLE-STRUCTURED-LOCATION;VALUE=URI;X-ADDRESS=\, ;X-APPLE-RADIUS=100;X-TI
 TLE=:geo:0,0
END:VEVENT
BEGIN:VTIMEZONE
TZID:America/Los_Angeles
X-LIC-LOCATION:America/Los_Angeles
BEGIN:STANDARD
DTSTART:20191103T010000
TZOFFSETFROM:-0700
TZOFFSETTO:-0800
TZNAME:PST
END:STANDARD
END:VTIMEZONE
END:VCALENDAR