BEGIN:VCALENDAR
VERSION:2.0
PRODID:-//wp-events-plugin.com//7.0.5//EN
TZID:America/Los_Angeles
X-WR-TIMEZONE:America/Los_Angeles
BEGIN:VEVENT
UID:879@onc-pdx.org
DTSTART;TZID=America/Los_Angeles:20220302T083000
DTEND;TZID=America/Los_Angeles:20220302T170000
DTSTAMP:20220301T212031Z
URL:https://onc-pdx.org/events/wednesday-day-tour-8/
SUMMARY:Wednesday Day Tour\, 2nd March 2022
DESCRIPTION:I'm cancelling this day tour\, because of the weather.  Overni
 ght snow level is "lowering to 5700 ft".  Weather for Wednesday is "Rain 
 and snow. High near 38. Breezy\, with a southwest wind 9 to 15 mph\, with 
 gusts as high as 25 mph. Chance of precipitation is 90%."\n\nI may try a t
 our on Thursday or Friday.  Let me know if you are interested\, because t
 he decision will be last minute.\n\nContact Andrew in advance for more det
 ails: 503 803 1669 (voice &amp\; text message) OR apblack@ownmail.net
CATEGORIES:Cross Country Ski,Day Tours
END:VEVENT
BEGIN:VTIMEZONE
TZID:America/Los_Angeles
X-LIC-LOCATION:America/Los_Angeles
BEGIN:STANDARD
DTSTART:20211107T010000
TZOFFSETFROM:-0700
TZOFFSETTO:-0800
TZNAME:PST
END:STANDARD
END:VTIMEZONE
END:VCALENDAR