BEGIN:VCALENDAR
VERSION:2.0
PRODID:-//wp-events-plugin.com//7.0.5//EN
TZID:America/Los_Angeles
X-WR-TIMEZONE:America/Los_Angeles
BEGIN:VEVENT
UID:1002@onc-pdx.org
DTSTART;TZID=America/Los_Angeles:20230118T080000
DTEND;TZID=America/Los_Angeles:20230118T170000
DTSTAMP:20230103T011857Z
URL:https://onc-pdx.org/events/wednesday-day-tour-7/
SUMMARY:Wednesday Mt Hood Day Tour
DESCRIPTION:Andrew Black will be leading an Intermediate-level day tour som
 ewhere on Mt Hood.  The location may change due to show conditions\, but 
 likely options are the Pocket Creek–Upper Junction Loop from the Teacup 
 Sno-Park\, or Twin Lakes from Barlow Pass.
CATEGORIES:Cross Country Ski,Day Tours
LOCATION:Troutdale Public Parking (behind Police Station)\, 140 Buxton Rd\,
  Troutdale\, OR\, 97060\, United States
X-APPLE-STRUCTURED-LOCATION;VALUE=URI;X-ADDRESS=140 Buxton Rd\, Troutdale\,
  OR\, 97060\, United States;X-APPLE-RADIUS=100;X-TITLE=Troutdale Public Pa
 rking (behind Police Station):geo:0,0
END:VEVENT
BEGIN:VTIMEZONE
TZID:America/Los_Angeles
X-LIC-LOCATION:America/Los_Angeles
BEGIN:STANDARD
DTSTART:20221106T010000
TZOFFSETFROM:-0700
TZOFFSETTO:-0800
TZNAME:PST
END:STANDARD
END:VTIMEZONE
END:VCALENDAR