BEGIN:VCALENDAR
VERSION:2.0
PRODID:-//wp-events-plugin.com//7.0.5//EN
TZID:America/Los_Angeles
X-WR-TIMEZONE:America/Los_Angeles
BEGIN:VEVENT
UID:875@onc-pdx.org
DTSTART;TZID=America/Los_Angeles:20220202T083000
DTEND;TZID=America/Los_Angeles:20220202T170000
DTSTAMP:20220111T134527Z
URL:https://onc-pdx.org/events/wednesday-day-tour-4/
SUMMARY:Wednesday Day Tour
DESCRIPTION:Every Wednesday\, Andrew Black (or some other leader) will be c
 onducting a regular tour. Most likely it will be somewhere around Mt Hood\
 ; the exact destination and length with depend on snow conditions. Yellow 
 Jacket Trail\, Pocket Creek\, Bennet Pass\, West Leg Road\, and the trails
  around Government Camp are all likely destinations. If conditions are bad
  elsewhere\, we may go to the Teacup Lake Nordic groomed trails. Modest de
 scending skills are likely to be required\, but nothing advanced.\n\nConta
 ct the Andrew in advance for more details: 503 803 1669 (voice &amp\; text
  message) OR apblack@ownmail.net
CATEGORIES:Cross Country Ski
LOCATION:\, \, 
X-APPLE-STRUCTURED-LOCATION;VALUE=URI;X-ADDRESS=\, ;X-APPLE-RADIUS=100;X-TI
 TLE=:geo:0,0
END:VEVENT
BEGIN:VTIMEZONE
TZID:America/Los_Angeles
X-LIC-LOCATION:America/Los_Angeles
BEGIN:STANDARD
DTSTART:20211107T010000
TZOFFSETFROM:-0700
TZOFFSETTO:-0800
TZNAME:PST
END:STANDARD
END:VTIMEZONE
END:VCALENDAR