BEGIN:VCALENDAR
VERSION:2.0
PRODID:-//wp-events-plugin.com//7.0.5//EN
TZID:America/Los_Angeles
X-WR-TIMEZONE:America/Los_Angeles
BEGIN:VEVENT
UID:1202@onc-pdx.org
DTSTART;TZID=America/Los_Angeles:20250118T080000
DTEND;TZID=America/Los_Angeles:20250118T163000
DTSTAMP:20250115T054151Z
URL:https://onc-pdx.org/events/washingtons-wild-wonders/
SUMMARY:Washington’s Wild Wonders
DESCRIPTION:We’ll do a loop from the Atkisson ski area and along the way 
 we’ll hit two of Washington's Wonders: a natural bridge and an ice cave.
  The tour isn’t long and if groomed\, the skiing is pretty easy. But pla
 n on being out all day as we’ll want to spend at least ½ at each of the
  wonders.\n\nEmail: scott.diamond.mail@gmail.com\nMeeting time/Place: As n
 oted above\, e-mail me for info\nDogs allowed: No\nCost: Plan on $20/skier
  for carpool cost + possibly WA day snow park pass
CATEGORIES:Cross Country Ski,Day Tours
LOCATION:Oldtown Troutdale (next to railroad tracks)\, 101 Historic Columbi
 a River Hwy.\, Troutdale\, OR\, 97060\, United States
X-APPLE-STRUCTURED-LOCATION;VALUE=URI;X-ADDRESS=101 Historic Columbia River
  Hwy.\, Troutdale\, OR\, 97060\, United States;X-APPLE-RADIUS=100;X-TITLE=
 Oldtown Troutdale (next to railroad tracks):geo:0,0
END:VEVENT
BEGIN:VTIMEZONE
TZID:America/Los_Angeles
X-LIC-LOCATION:America/Los_Angeles
BEGIN:STANDARD
DTSTART:20241103T010000
TZOFFSETFROM:-0700
TZOFFSETTO:-0800
TZNAME:PST
END:STANDARD
END:VTIMEZONE
END:VCALENDAR