BEGIN:VCALENDAR
VERSION:2.0
PRODID:-//wp-events-plugin.com//7.0.5//EN
TZID:America/Los_Angeles
X-WR-TIMEZONE:America/Los_Angeles
BEGIN:VEVENT
UID:1298@onc-pdx.org
DTSTART;TZID=America/Los_Angeles;VALUE=DATE:20260125
DTEND;TZID=America/Los_Angeles;VALUE=DATE:20260126
DTSTAMP:20260124T203003Z
URL:https://onc-pdx.org/events/washington-washingtons-wild-wonders/
SUMMARY:Washington – Washington’s Wild Wonders
DESCRIPTION:With the low snow\, there are not many options\, but the forest
  service is reporting reasonable grooming at the Atkisson snow park. We’
 ll do a pleasant loop\, visiting both the natural bridges and the ice cave
 s.\n\nI have not specified a start time because I want to force everyone t
 o contact me so I can send info packets.\n\nLeader: Scott Diamond\nEmail: 
 scott.diamond.mail@gmail.com\nTour Difficulty: Beginning/Intermediate Tour
 \nDogs allowed: No\nCost: Plan on $15-$20/skier for carpool cost
CATEGORIES:Cross Country Ski,Day Tours
LOCATION:Oldtown Troutdale (next to railroad tracks)\, 101 Historic Columbi
 a River Hwy.\, Troutdale\, OR\, 97060\, United States
X-APPLE-STRUCTURED-LOCATION;VALUE=URI;X-ADDRESS=101 Historic Columbia River
  Hwy.\, Troutdale\, OR\, 97060\, United States;X-APPLE-RADIUS=100;X-TITLE=
 Oldtown Troutdale (next to railroad tracks):geo:0,0
END:VEVENT
BEGIN:VTIMEZONE
TZID:America/Los_Angeles
X-LIC-LOCATION:America/Los_Angeles
BEGIN:STANDARD
DTSTART:20251102T010000
TZOFFSETFROM:-0700
TZOFFSETTO:-0800
TZNAME:PST
END:STANDARD
END:VTIMEZONE
END:VCALENDAR