BEGIN:VCALENDAR
VERSION:2.0
PRODID:-//wp-events-plugin.com//7.0.5//EN
TZID:America/Los_Angeles
X-WR-TIMEZONE:America/Los_Angeles
BEGIN:VEVENT
UID:121@onc-pdx.org
DTSTART;TZID=America/Los_Angeles;VALUE=DATE:20160310
DTEND;TZID=America/Los_Angeles;VALUE=DATE:20160315
DTSTAMP:20151115T063106Z
URL:https://onc-pdx.org/events/wallowa-mountains-wallowa-lake-or/
SUMMARY:Wallowa Mountains\, Wallowa Lake\, OR
DESCRIPTION:Mar 10-14\, Thur-Mon\, All Abilities SkiCome spend an extended 
 weekend skiing in the magnificent Wallowa Mountains in eastern Oregon! We 
 have three houses at Wallowa Lake for four nights at the entrance to the W
 allowa Mountains. We can partake in three or four days of skiing. There ar
 e opportunities for all levels of skiing—backcountry skiing\, road and t
 rail skiing\, and snowshoeing (provided by the resort). Some options are S
 alt Creek Summit\, Hurricane Trail\, McCully Trail\, and the West Fork Tra
 il. We’ll carpool from Portland on Thursday morning or early afternoon\,
  arriving in Joseph in early evening. We’ll ski around Wallowa Lake and 
 in the mountains on Friday\, Saturday\, Sunday\, and (possibly) part of Mo
 nday\, returning to Portland on Monday evening. We’ll have potluck dinne
 rs in one of the houses.Trip Limit: 14 participants\, including the leader
 .Cost: $130 per person for four nights lodgingSign up at the Overnight Tri
 p Extravaganza in October. Afterwards\, you may sign-up on the ONC-PDX web
 site\, or send your ONC overnight trip application and $130 check payable 
 to ONC-Portland Chapter to the trip leader\, Kathy Burns. For more info co
 ntact Kathy\, 503 429-4024 or email burnskathrynl@gmail.com.
CATEGORIES:Backcountry Ski/Telemarking,Cross Country Ski,Snowshoe
LOCATION:Wallowa Lake\, Hwy 351\, Joseph\, OR\, United States
GEO:45.319294;-117.201256
X-APPLE-STRUCTURED-LOCATION;VALUE=URI;X-ADDRESS=Hwy 351\, Joseph\, OR\, Uni
 ted States;X-APPLE-RADIUS=100;X-TITLE=Wallowa Lake:geo:45.319294,-117.2012
 56
END:VEVENT
BEGIN:VTIMEZONE
TZID:America/Los_Angeles
X-LIC-LOCATION:America/Los_Angeles
BEGIN:STANDARD
DTSTART:20151101T010000
TZOFFSETFROM:-0700
TZOFFSETTO:-0800
TZNAME:PST
END:STANDARD
BEGIN:DAYLIGHT
DTSTART:20160313T030000
TZOFFSETFROM:-0800
TZOFFSETTO:-0700
TZNAME:PDT
END:DAYLIGHT
END:VTIMEZONE
END:VCALENDAR