BEGIN:VCALENDAR
VERSION:2.0
PRODID:-//wp-events-plugin.com//7.0.5//EN
TZID:America/Los_Angeles
X-WR-TIMEZONE:America/Los_Angeles
BEGIN:VEVENT
UID:652@onc-pdx.org
DTSTART;TZID=America/Los_Angeles;VALUE=DATE:20200227
DTEND;TZID=America/Los_Angeles;VALUE=DATE:20200303
DTSTAMP:20200204T200620Z
URL:https://onc-pdx.org/events/wallowa-mountains-2020/
SUMMARY:Wallowa Mountains
DESCRIPTION:Thursday\, Feb. 27 thru Monday\, Mar. 2Joseph\, ORAdvanced Inte
 rmediate to Advanced Spend 4 days skiing eastern Oregon’s Wallowa Mounta
 ins where the mountains are steep and the snow is dry!&nbsp\; There are op
 portunities for different levels of skiing on this trip but there are no g
 roomed trails in the Wallowas. Bring your Telemark or AT gear and challeng
 e yourself climbing up Wing Ridge and skiing the backcountry powder. Depen
 ding on group desires\, we can hire a guide for a day or two of backcountr
 y adventure. The group will split up and intermediate skiers will find lot
 s of fun (without the climb) on easy x-country trails at Salt Creek Summit
 \, the beautiful Wagon Rd trail\, McCully Creek Trail\, or the Canal road 
 to explore. There’s also Ferguson Ridge ski area where lift tickets are 
 $20/day at this small community built &amp\; operated ski area.We’ll sta
 y in one large house in Joseph and we will share potluck dinners. There ar
 e also lots of restaurants &amp\; pubs in Joseph and nearby Enterprise. Ca
 rpools will leave Portland on Thursday\, arriving in Joseph early that eve
 ning.&nbsp\; Skiing can be enjoyed on Friday\, Saturday\, Sunday\, and ret
 urn to Portland Monday afternoon. Joseph is walking distance from the hous
 e so it can easily be explored in the evenings along with the scenic Wallo
 wa Lake.The house has 5 bedrooms with queen beds and a bunkroom with 10 bu
 nks. It has 2 kitchens &amp\; living rooms and 5 bathrooms. Pricing is bas
 ed on your choice of a private room or a bunk in the bunkroom. For the Bun
 kroom\, you will have to furnish your own sleeping bag &amp\; pillow. Plea
 se note: Bunkroom will be a mixed gender room.Anyone who plans to ski stee
 per slopes and possibly use a guide is required to bring their own avalanc
 he gear\, (beacon\, probe\, shovel). No exceptions for this. Guide service
 s will be optional and additional to the cost of the tripTrip limit:&nbsp\
 ; 12 participants including trip leaders.Cost:&nbsp\; Includes four nights
  lodging:&nbsp\; - Private room single person: $220&nbsp\; - Private room\
 , 2 people sharing bed: $440&nbsp\; - Bunkroom (mixed gender) single: $190
 Carpool miles:&nbsp\; 660 miles roundtrip from Portland plus excursions to
  trailheads.Trip Leader:&nbsp\; Susan Watt\, susniam@gmail.comCo-Leader:&n
 bsp\; Lauren Eaton\, eatonla1@gmail.com
CATEGORIES:Cross Country Ski
END:VEVENT
BEGIN:VTIMEZONE
TZID:America/Los_Angeles
X-LIC-LOCATION:America/Los_Angeles
BEGIN:STANDARD
DTSTART:20191103T010000
TZOFFSETFROM:-0700
TZOFFSETTO:-0800
TZNAME:PST
END:STANDARD
END:VTIMEZONE
END:VCALENDAR