BEGIN:VCALENDAR
VERSION:2.0
PRODID:-//wp-events-plugin.com//7.0.5//EN
TZID:America/Los_Angeles
X-WR-TIMEZONE:America/Los_Angeles
BEGIN:VEVENT
UID:30@onc-pdx.org
DTSTART;TZID=America/Los_Angeles;VALUE=DATE:20150312
DTEND;TZID=America/Los_Angeles;VALUE=DATE:20150317
DTSTAMP:20150306T210644Z
URL:https://onc-pdx.org/events/wallowa-lake-joseph/
SUMMARY:Wallowa Lake\, Joseph\, OR
DESCRIPTION:Come spend an extended weekend skiing in the magnificent Wallow
 a Mountains in eastern Oregon! We have two Duplex houses at Wallowa Lake\,
  at the entrance to the Wallowas\, for four nights so we can partake in th
 ree or four days of skiing. There are opportunities for all levels of skii
 ng—backcountry skiing\, road and trail skiing\, and snowshoeing (provide
 d by the resort). Some options are Salt Creek Summit\, Hurricane Trail\, M
 cCully Trail\, and the West Fork Trail. We’ll carpool from Portland on T
 hursday morning or early afternoon\, arriving in Joseph in early evening. 
 We’ll ski around Wallowa Lake and in the mountains on Friday\, Saturday\
 , Sunday\, and (possibly) part of Monday\, returning to Portland on Monday
  evening. We’ll have potluck dinners in the house.Trip Limit: 12 partici
 pants\, including the leaderCost: $130 per person\; you must be a current 
 ONC member before signing up for this trip. Contact the trip leader for s
 pace availability.  Send your ONC overnight trip application and $130 che
 ck payable to ONC-Portland Chapter to the trip leader: Kathy Burns\, 58324
  Wilson Cutoff Road\, Vernonia\, OR 97064. For more info contact Kathy 503
  429-4024 burnskathrynl@gmail.com.
CATEGORIES:Backcountry Ski/Telemarking,Cross Country Ski
END:VEVENT
BEGIN:VTIMEZONE
TZID:America/Los_Angeles
X-LIC-LOCATION:America/Los_Angeles
BEGIN:DAYLIGHT
DTSTART:20150308T030000
TZOFFSETFROM:-0800
TZOFFSETTO:-0700
TZNAME:PDT
END:DAYLIGHT
END:VTIMEZONE
END:VCALENDAR