BEGIN:VCALENDAR
VERSION:2.0
PRODID:-//wp-events-plugin.com//7.0.5//EN
TZID:America/Los_Angeles
X-WR-TIMEZONE:America/Los_Angeles
BEGIN:VEVENT
UID:82@onc-pdx.org
DTSTART;TZID=America/Los_Angeles;VALUE=DATE:20150701
DTEND;TZID=America/Los_Angeles;VALUE=DATE:20150706
DTSTAMP:20150627T024100Z
URL:https://onc-pdx.org/events/victoria-bc-bike-trip/
SUMMARY:Victoria\, BC Bike Trip
DESCRIPTION:July 1 – 5\, 2015\, Wednesday – Sunday\, All level bicycle 
 tripTwo countries\, two independence days\, two sets of fireworks\, and on
 e Fiddle Festival\, along with great biking!Listen up! We have made a chan
 ge in the annual San Juan Bike Trip this year! Instead of fighting the cro
 wds in the San Juan Islands for the July 4th weekend\, we are going to Vic
 toria\, Canada! Plans are to drive to Port Angeles\, take the 5:20 PM ferr
 y to Victoria with only our bicycles. After we check in at our hostel in V
 ictoria (and some private rooms)\, we will ride to enjoy Canada Day with f
 ireworks later that night. For the next three days\, we will ride bicycles
  on Vancouver Island – The Galloping Goose Trail\, the Lochside Trail\, 
 the Interurban Rail Trail\, and more. Then we will take the 3:00 PM ferry 
 back to Port Angeles and drive to Port Townsend to camp\, enjoy the fiddle
  music\, and watch US fireworks at dark. We can return to Portland the nex
 t day and perhaps even catch part of the Waterfront Blues Festival! For fu
 rther information\, please contact the leader\, Ted Scheinman\, tedskier@g
 mail.com or by phone at 503-452-7432 Please send overnight tour form\, alo
 ng with a check for $180 for four nights lodging (3 in Victoria\, 1 campin
 g in Port Townsend). You can sign up on the ONC Website or send a check pa
 yable to ONC to Ted Scheinman\, 36 SW Brugger St.\, Portland\, OR 97219. L
 imit is 14 people. The deadline for signing up is June 15\, but if space i
 s available at the hostel after that time\, you may be accommodated.NOTE: 
 The trip is fully booked\; Waiting list is now open
CATEGORIES:Biking
LOCATION:Port Angeles\, WA\, 101 E Railroad Ave\, Port Angeles\, WA\, 98362
 \, United States
GEO:48.120758;-123.431892
X-APPLE-STRUCTURED-LOCATION;VALUE=URI;X-ADDRESS=101 E Railroad Ave\, Port A
 ngeles\, WA\, 98362\, United States;X-APPLE-RADIUS=100;X-TITLE=Port Angele
 s\, WA:geo:48.120758,-123.431892
END:VEVENT
BEGIN:VTIMEZONE
TZID:America/Los_Angeles
X-LIC-LOCATION:America/Los_Angeles
BEGIN:DAYLIGHT
DTSTART:20150308T030000
TZOFFSETFROM:-0800
TZOFFSETTO:-0700
TZNAME:PDT
END:DAYLIGHT
END:VTIMEZONE
END:VCALENDAR