BEGIN:VCALENDAR
VERSION:2.0
PRODID:-//wp-events-plugin.com//7.0.5//EN
TZID:America/Los_Angeles
X-WR-TIMEZONE:America/Los_Angeles
BEGIN:VEVENT
UID:921@onc-pdx.org
DTSTART;TZID=America/Los_Angeles;VALUE=DATE:20220701
DTEND;TZID=America/Los_Angeles;VALUE=DATE:20220706
DTSTAMP:20220425T013637Z
URL:https://onc-pdx.org/events/vancouver-island-bike-trip-3/
SUMMARY:Vancouver Island Bike Trip
DESCRIPTION:A Great Bike Trip Returns!\n\nThe famous July 4th bike trip is 
 going to Victoria\, Canada!&nbsp\; Plans are to drive to Port Angeles on F
 riday\, July 1\, take the 12:45 PM (or 5:15 PM) ferry to Victoria with onl
 y our bicycles (a current passport is required for entry and re-entry).\n\
 nAfter we check in at our rooms at the University of Victoria in Victoria 
 (in single bed rooms in suites with bathrooms and kitchens)\, we will ride
  to enjoy Canada Day with fireworks later that night.&nbsp\; For the next 
 three days\, we will ride bicycles on Vancouver Island – The Galloping G
 oose Trail\, the Lochside Trail\, and many more local trails\, returning t
 o our lodging each night.&nbsp\; Then we will take the 10:30 AM (or 3:00 P
 M) ferry back to Port Angeles on Tuesday and drive back to Portland\, miss
 ing all the July 4th traffic!\n\nAll normal ONC-PDX requirements must be f
 ollowed\, including helmets and patch kits.\n\nTrip limit: 12 participants
 \, including trip leader.\nCost: $310 per person. Includes 4 nights lodgin
 g\, single occupancy in suites at University of Victoria dormitories. No d
 ouble rooms are available.&nbsp\; Meals can be prepared in the suite kitch
 ens or eaten out in restaurants.&nbsp\; Ferry costs (passenger &amp\; bike
  cost of $28 each way) are not included in costs.\nCarpool miles: From Por
 tland\, approximately 360 miles. Costs for carpooling are not included in 
 costs above.&nbsp\; We will leave our cars at Bob Vreeland’s house in Po
 rt Angeles for no cost (He is a former ONC member.)\nCovid-19 Protocol:&nb
 sp\; Currently\, you must have proof of Covid-19 vaccinations\, do not nee
 d a Covid-19 test\, and must complete an ArriveCAN entry form.&nbsp\; Of c
 ourse\, things could change before we leave.\nTrip Leader: Ted Scheinman\,
  tedskier@gmail.com\; phone: 503-914-9584.
CATEGORIES:Biking
END:VEVENT
BEGIN:VTIMEZONE
TZID:America/Los_Angeles
X-LIC-LOCATION:America/Los_Angeles
BEGIN:DAYLIGHT
DTSTART:20220313T030000
TZOFFSETFROM:-0800
TZOFFSETTO:-0700
TZNAME:PDT
END:DAYLIGHT
END:VTIMEZONE
END:VCALENDAR