BEGIN:VCALENDAR
VERSION:2.0
PRODID:-//wp-events-plugin.com//7.0.5//EN
TZID:America/Los_Angeles
X-WR-TIMEZONE:America/Los_Angeles
BEGIN:VEVENT
UID:1238@onc-pdx.org
DTSTART;TZID=America/Los_Angeles;VALUE=DATE:20250702
DTEND;TZID=America/Los_Angeles;VALUE=DATE:20250707
DTSTAMP:20250524T142340Z
URL:https://onc-pdx.org/events/vancouver-island-bike-trip-2025/
SUMMARY:Victoria and Vancouver Island Bike Trip 2025
DESCRIPTION:Escape to Canada - A Great Bike Trip Continues!\nThe famous Jul
 y 4th bike trip is going to Victoria\, Canada! Plans are to drive to Port 
 Angeles on Wednesday\, July 2\, take the 12:45 pm (or 5:15 pm) ferry to Vi
 ctoria with only our bicycles (current valid passport required for entry t
 o/from Canada). We will check in at the University of Victoria in suites w
 ith single bed rooms\, bathrooms and kitchens (supplies and utensils may v
 ary or be scant).\n\nFor the next three days\, we will ride bicycles on Va
 ncouver Island – The Galloping Goose Trail\, the Lochside Trail\, the In
 terurban Rail Trail\, and possibly more. Then we will take the 10:30 am fe
 rry back to Port Angeles on July 6 and drive back to Portland.\n\nThe cost
  for lodging is only $370 per person — a real bargain for Victoria!  We
  plan to have at least one potluck dinner – perhaps more.  You can sign
  up below starting Thursday\, May 1.  Limit is 16 people – this trip us
 ually sells out quickly!  Read about last year's trip in the Aug. 2024 n
 ewsletter and check out the photos.\n\nTrip rating: All level bicycle trip
 \nTrip limit: 16 participants\, including trip leaders.\nCost: $370 per pe
 rson for 4 nights lodging\, single occupancy in suites at University of Vi
 ctoria dormitories. No double rooms are available - couples need to book t
 wo spaces.  Meals can be prepared in the suite kitchens (supplies and ute
 nsils may be limited) or eaten out in restaurants.  Ferry costs (passenge
 r &amp\; bike cost of about $23 each way) and carpool costs are extra.\nCa
 rpool miles: From Portland\, approximately 360 miles one-way to Port Angel
 es.\nTrip Leader: Ted Scheinman\, tedskier@gmail.com\, 503-914-9584\nCo-Le
 ader:  Rick Grote\, rfgrote@comcast.net\, 360-931-2310
CATEGORIES:Biking
END:VEVENT
BEGIN:VTIMEZONE
TZID:America/Los_Angeles
X-LIC-LOCATION:America/Los_Angeles
BEGIN:DAYLIGHT
DTSTART:20250309T030000
TZOFFSETFROM:-0800
TZOFFSETTO:-0700
TZNAME:PDT
END:DAYLIGHT
END:VTIMEZONE
END:VCALENDAR