BEGIN:VCALENDAR
VERSION:2.0
PRODID:-//wp-events-plugin.com//7.0.5//EN
TZID:America/Los_Angeles
X-WR-TIMEZONE:America/Los_Angeles
BEGIN:VEVENT
UID:1233@onc-pdx.org
DTSTART;TZID=America/Los_Angeles:20250330T081500
DTEND;TZID=America/Los_Angeles:20250330T170000
DTSTAMP:20250324T172457Z
URL:https://onc-pdx.org/events/ungroomed-ski-sunday/
SUMMARY:Ungroomed Ski Sunday
DESCRIPTION:NOTE: DATE OF TOUR IS WEATHER DEPENDENT. PLEASE CONTACT KATE (k
 8tmcp@gmail.com) IF YOU ARE INTERESTED IN THIS TOUR.\n\n&nbsp\;\n\n&nbsp\;
 \n\nAdvanced intermediate or advanced downhill skiing skills are essential
 . Be familiar with your equipment and skins are essential.\n\nNow that we 
 have some additional snow\, it's time to enjoy some non-groomed skiing tha
 t will include climbing and some downhill telemarking or skiing.\n\nTrip D
 escription: We will leave from the bottom of Glade Trail at Government Cam
 p and climb up toward Timberline. This tour includes a steady climb (1\,50
 0-2\,500’ climb in 3+miles) Depending on people’s stamina and weather\
 , we may continue to climb up above Timberline Lodge along the west side o
 f the ski lifts.\n\nThere is an option for groomed (Alpine Trail- steeper)
  or ungroomed (Glade Trail/ Nordic By -Pass) descents back to Government C
 amp. Participants need to be able to ski in a controlled and comfortable m
 anner on black diamond cross country slopes using telemark or downhill ski
 lls to enjoy this trip. (Advanced intermediate or advanced downhill skiing
  skills).\n\nPlans may be modified if needed to fit snow and trail conditi
 ons.\n\nIf we have time\, the group may enjoy for a brief Apres Ski gather
 ing in Government Camp before heading home.\n\n&nbsp\;\n\nEquipment\nTelem
 ark\, AT skis and skins\nBindings that match your boots\nWater/ snacks/lun
 ch\nSnow Park Pass\nChains/ proper snow tires\nNo avalanche danger - so no
  need for AVI gear.\n\nLeaders: John Maroney ( telemark ) and Kate McPhers
 on ( AT )\nk8tmcp@gmail.com
CATEGORIES:Cross Country Ski,Day Tours
LOCATION:Oldtown Troutdale (next to railroad tracks)\, 101 Historic Columbi
 a River Hwy.\, Troutdale\, OR\, 97060\, United States
X-APPLE-STRUCTURED-LOCATION;VALUE=URI;X-ADDRESS=101 Historic Columbia River
  Hwy.\, Troutdale\, OR\, 97060\, United States;X-APPLE-RADIUS=100;X-TITLE=
 Oldtown Troutdale (next to railroad tracks):geo:0,0
END:VEVENT
BEGIN:VTIMEZONE
TZID:America/Los_Angeles
X-LIC-LOCATION:America/Los_Angeles
BEGIN:DAYLIGHT
DTSTART:20250309T030000
TZOFFSETFROM:-0800
TZOFFSETTO:-0700
TZNAME:PDT
END:DAYLIGHT
END:VTIMEZONE
END:VCALENDAR