BEGIN:VCALENDAR
VERSION:2.0
PRODID:-//wp-events-plugin.com//7.0.5//EN
TZID:America/Los_Angeles
X-WR-TIMEZONE:America/Los_Angeles
BEGIN:VEVENT
UID:1245@onc-pdx.org
DTSTART;TZID=America/Los_Angeles:20250717T080000
DTEND;TZID=America/Los_Angeles:20250717T170000
DTSTAMP:20250524T004612Z
URL:https://onc-pdx.org/events/trillium-basin-quarry-loop-trail-tending/
SUMMARY:Trillium Basin Quarry Loop Trail Tending
DESCRIPTION:Join us to help maintain the ski trails at Trillium Basin - Qua
 rry Loop.  This is a lovely setting\, far from the maddening crowds.  Mo
 st trail tending work parties involve light brushing\, tree limbing\, and 
 the hanging of blue diamonds.  We plan to work the Quarry Loop.  We will
  work until about 2:30 pm with return to Portland about 5 pm.  We'll supp
 ly the tools and hardhats.\n\nMeet at Old Town Troutdale at 8 am sharp for
  carpooling - see map below.\n\nWhat to bring: Bring a comfortable pair of
  work gloves to protect your hands (gardening gloves are ok). Wear long pa
 nts\, a long sleeved shirt\, hiking boots and protective eye wear.  Dress
  for the weather\; it could be hot\, cold\, windy\, rainy\, or any and all
  in the same day.  Have bug repellent\, sunscreen\, plus 12 essentials. F
 inally\, bring small backpack with a lunch and snacks as you are sure to w
 ork up an appetite\, and lots of water.\n\nSign up below - select the numb
 er of spaces for all of the people in your party and provide their contact
  information where indicated.  Note to members - please sign in to make a
  reservation.\n\nFor more info or if the signup is full\, contact the lead
 er: Ken Wenzel 503-729-6571 (call or text) skiwenzel@hotmail.com\n\nClick 
 on the map to view a larger scale with street details of the meeting place
 .  Or view on Google Maps: 101 Historic Columbia River Hwy\, Troutdale\, 
 OR 97060.  Look for us in the parking area behind the buildings just sout
 h of the railroad tracks.\n\n
CATEGORIES:Trail Tending
LOCATION:Oldtown Troutdale (next to railroad tracks)\, 101 Historic Columbi
 a River Hwy.\, Troutdale\, OR\, 97060\, United States
X-APPLE-STRUCTURED-LOCATION;VALUE=URI;X-ADDRESS=101 Historic Columbia River
  Hwy.\, Troutdale\, OR\, 97060\, United States;X-APPLE-RADIUS=100;X-TITLE=
 Oldtown Troutdale (next to railroad tracks):geo:0,0
END:VEVENT
BEGIN:VTIMEZONE
TZID:America/Los_Angeles
X-LIC-LOCATION:America/Los_Angeles
BEGIN:DAYLIGHT
DTSTART:20250309T030000
TZOFFSETFROM:-0800
TZOFFSETTO:-0700
TZNAME:PDT
END:DAYLIGHT
END:VTIMEZONE
END:VCALENDAR