BEGIN:VCALENDAR
VERSION:2.0
PRODID:-//wp-events-plugin.com//7.0.5//EN
TZID:America/Los_Angeles
X-WR-TIMEZONE:America/Los_Angeles
BEGIN:VEVENT
UID:980@onc-pdx.org
DTSTART;TZID=America/Los_Angeles:20221027T080000
DTEND;TZID=America/Los_Angeles:20221027T150000
DTSTAMP:20221026T165436Z
URL:https://onc-pdx.org/events/trail-tending-thursday-oct-27-new-ski-trail
 -work-government-camp/
SUMMARY:Trail Tending Thursday Oct. 27 – NEW SKI TRAIL WORK – Governmen
 t Camp
DESCRIPTION:I am looking for a few people to help limb trees&nbsp\; and han
 g Diamonds on the New Water Tank&nbsp\; SKI Trail at Governemnt Camp Thurs
 day.&nbsp\; Trying to get this done before the snow gets any deeper!!!!!\n
 \nWe can Carpool from Troutdale&nbsp\; 8 AM or Sandy 8:30 AM Government Ca
 mp 9:30 AM Rest Area\n\nWear Snow Boots and Gaiters\,&nbsp\; Fleece and Gl
 oves and Water Resistant Jacket and Pants\n\nBring Lunch and&nbsp\; Hot Be
 verage&nbsp\; - Small pack - Sunglasses\n\nKen Wenzel\, skiwenzel@hotmail.
 com\n\nCell&nbsp\;503-729-6571&nbsp\; &nbsp\;\n\nHome&nbsp\;503-297-2958
CATEGORIES:Trail Tending
END:VEVENT
BEGIN:VTIMEZONE
TZID:America/Los_Angeles
X-LIC-LOCATION:America/Los_Angeles
BEGIN:DAYLIGHT
DTSTART:20220313T030000
TZOFFSETFROM:-0800
TZOFFSETTO:-0700
TZNAME:PDT
END:DAYLIGHT
END:VTIMEZONE
END:VCALENDAR