BEGIN:VCALENDAR
VERSION:2.0
PRODID:-//wp-events-plugin.com//7.0.5//EN
TZID:America/Los_Angeles
X-WR-TIMEZONE:America/Los_Angeles
BEGIN:VEVENT
UID:926@onc-pdx.org
DTSTART;TZID=America/Los_Angeles:20220623T093000
DTEND;TZID=America/Los_Angeles:20220623T143000
DTSTAMP:20220609T121257Z
URL:https://onc-pdx.org/events/trail-tending-sasquatch/
SUMMARY:Trail Tending - Sasquatch Trail\, Mt. St. Helens
DESCRIPTION:Join us to help maintain the Sasquatch Trails of Mt. St. Helens
 .&nbsp\; Meet at Marble Mtn. Sno-park at 9:30 a.m.&nbsp\; We will work unt
 il about 2:30 p.m.\n\nMost trail tending work parties involve light brushi
 ng\, tree limbing\, and the hanging of blue diamonds.&nbsp\; We'll supply 
 the tools and hardhats. Sign up below - select the number of spaces for al
 l of the people in your party and provide their contact information where 
 indicated.\n\nWhat to bring: Bring a comfortable pair of gloves to protect
  your hands (gardening gloves work well). Wear long pants\, a long sleeved
  shirt\, hiking boots and protective eye wear.&nbsp\; Have bug repellent a
 nd sunscreen. Bring a COVID-19 mask.&nbsp\; Finally\, bring a lunch\, snac
 ks and lots of water\, as you are sure to work up an appetite.\n\nFor more
  info\, contact the leader: Ken Wenzel 503-729-6571 (call or text) skiwenz
 el@hotmail.com\n\n&nbsp\;
CATEGORIES:Trail Tending
END:VEVENT
BEGIN:VTIMEZONE
TZID:America/Los_Angeles
X-LIC-LOCATION:America/Los_Angeles
BEGIN:DAYLIGHT
DTSTART:20220313T030000
TZOFFSETFROM:-0800
TZOFFSETTO:-0700
TZNAME:PDT
END:DAYLIGHT
END:VTIMEZONE
END:VCALENDAR