BEGIN:VCALENDAR
VERSION:2.0
PRODID:-//wp-events-plugin.com//7.0.5//EN
TZID:America/Los_Angeles
X-WR-TIMEZONE:America/Los_Angeles
BEGIN:VEVENT
UID:966@onc-pdx.org
DTSTART;TZID=America/Los_Angeles:20221013T073000
DTEND;TZID=America/Los_Angeles:20221013T143000
DTSTAMP:20221007T140124Z
URL:https://onc-pdx.org/events/trail-tending-sasquatch-trail-mt-st-helens/
SUMMARY:Trail Tending - Sasquatch Trail\, Mt. St. Helens
DESCRIPTION:Join us to help maintain the Sasquatch Trails of Mt. St. Helens
 .&nbsp\; We will work on the Middle Trail and Upper Loop.&nbsp\;\n\nLeavin
 g Jantzen Beach Target parking lot ( East End) at 7:30 AM. Meeting at Marb
 le Mt. Sno-Park at 9:15 AM.&nbsp\;\n\nMost trail tending work parties invo
 lve light brushing\, tree limbing\, and the hanging of blue diamonds.&nbsp
 \; We'll supply the tools and hardhats. Sign up below - select the number 
 of spaces for all of the people in your party and provide their contact in
 formation where indicated.\n\nWhat to bring: Bring a comfortable pair of g
 loves to protect your hands (gardening gloves work well). Wear long pants\
 , a long sleeved shirt\, hiking boots and protective eye wear.&nbsp\; Have
  bug repellent and sunscreen. Bring a COVID-19 mask.&nbsp\; Finally\, brin
 g a lunch\, snacks and lots of water\, as you are sure to work up an appet
 ite.\n\nFor more info\, contact the leader: Ken Wenzel 503-729-6571 (call 
 or text) skiwenzel@hotmail.com\n\n&nbsp\;
CATEGORIES:Trail Tending
END:VEVENT
BEGIN:VTIMEZONE
TZID:America/Los_Angeles
X-LIC-LOCATION:America/Los_Angeles
BEGIN:DAYLIGHT
DTSTART:20220313T030000
TZOFFSETFROM:-0800
TZOFFSETTO:-0700
TZNAME:PDT
END:DAYLIGHT
END:VTIMEZONE
END:VCALENDAR