BEGIN:VCALENDAR
VERSION:2.0
PRODID:-//wp-events-plugin.com//7.0.5//EN
TZID:America/Los_Angeles
X-WR-TIMEZONE:America/Los_Angeles
BEGIN:VEVENT
UID:927@onc-pdx.org
DTSTART;TZID=America/Los_Angeles:20220803T093000
DTEND;TZID=America/Los_Angeles:20220803T143000
DTSTAMP:20220630T124035Z
URL:https://onc-pdx.org/events/trail-tending-pocket-creek/
SUMMARY:Trail Tending - Pocket Creek\, Mt. Hood
DESCRIPTION:Join us to help maintain ski trails in the Pocket Creek area. M
 eet at Pocket Creek Sno-park at 9:30 a.m.&nbsp\; We will work until about 
 2:30 p.m.&nbsp\;&nbsp\;\n\nMost trail tending work parties involve light b
 rushing\, tree limbing\, and the hanging of blue diamonds. We'll supply th
 e tools and hardhats.&nbsp\; Sign up below - select the number of spaces f
 or all of the people in your party and provide their contact information w
 here indicated.\n\nWhat to bring: Bring a comfortable pair of gloves to pr
 otect your hands (gardening gloves work well). Wear long pants\, a long sl
 eeved shirt\, hiking boots and protective eye wear.&nbsp\; Have bug repell
 ent and sunscreen. Bring a COVID-19 mask. Finally\, bring a lunch\, snacks
  and lots of water\, as you are sure to work up an appetite.\n\nFor more i
 nfo\, contact the leader: Ken Wenzel 503-729-6571 (call or text) skiwenzel
 @hotmail.com\n\n&nbsp\;
CATEGORIES:Trail Tending
END:VEVENT
BEGIN:VTIMEZONE
TZID:America/Los_Angeles
X-LIC-LOCATION:America/Los_Angeles
BEGIN:DAYLIGHT
DTSTART:20220313T030000
TZOFFSETFROM:-0800
TZOFFSETTO:-0700
TZNAME:PDT
END:DAYLIGHT
END:VTIMEZONE
END:VCALENDAR