BEGIN:VCALENDAR
VERSION:2.0
PRODID:-//wp-events-plugin.com//7.0.5//EN
TZID:America/Los_Angeles
X-WR-TIMEZONE:America/Los_Angeles
BEGIN:VEVENT
UID:968@onc-pdx.org
DTSTART;TZID=America/Los_Angeles:20221020T090000
DTEND;TZID=America/Los_Angeles:20221020T150000
DTSTAMP:20221015T182156Z
URL:https://onc-pdx.org/events/trail-tending-pocket-creek-mt-hood/
SUMMARY:Trail Tending - Meadow Creek Trail - between Pocket Creek and Teacu
 p
DESCRIPTION:Join us to help maintain Meadow Creek Trail – Pocket Creek an
 d Teacup Tie Trail ski trails in the Pocket Creek area.&nbsp\; Meeting at 
 the NORTH&nbsp\; End of the Teacup Parking Lot at 9:00 AM. Carpooling from
  either Troutdale Mall (Columbia Gorge Outlets) at 7:30 AM or Sandy Public
  lot behind Otto's at 8 AM .\n\nMost trail tending work parties involve li
 ght brushing\, tree limbing\, and the hanging of blue diamonds. We'll supp
 ly the tools and hardhats.&nbsp\; Sign up below - select the number of spa
 ces for all of the people in your party and provide their contact informat
 ion where indicated.\n\nWhat to bring: Bring a comfortable pair of gloves 
 to protect your hands (gardening gloves work well). Wear long pants\, a lo
 ng sleeved shirt\, hiking boots and protective eye wear.&nbsp\; Have bug r
 epellent and sunscreen. Bring a COVID-19 mask. Finally\, bring a lunch\, s
 nacks and lots of water\, as you are sure to work up an appetite.\n\nFor m
 ore info\, contact the leader: Ken Wenzel\, Home 503-297-2958\, Cell 503-7
 29-6571\, skiwenzel@hotmail.com\n\n&nbsp\;
CATEGORIES:Trail Tending
END:VEVENT
BEGIN:VTIMEZONE
TZID:America/Los_Angeles
X-LIC-LOCATION:America/Los_Angeles
BEGIN:DAYLIGHT
DTSTART:20220313T030000
TZOFFSETFROM:-0800
TZOFFSETTO:-0700
TZNAME:PDT
END:DAYLIGHT
END:VTIMEZONE
END:VCALENDAR