BEGIN:VCALENDAR
VERSION:2.0
PRODID:-//wp-events-plugin.com//7.0.5//EN
TZID:America/Los_Angeles
X-WR-TIMEZONE:America/Los_Angeles
BEGIN:VEVENT
UID:815@onc-pdx.org
DTSTART;TZID=America/Los_Angeles;VALUE=DATE:20210925
DTEND;TZID=America/Los_Angeles;VALUE=DATE:20210927
DTSTAMP:20210621T172549Z
URL:https://onc-pdx.org/events/trail-tending-party-weekend-sasquacth-ski-t
 rail-mt-st-helens-wa/
SUMMARY:Trail Tending Party Weekend- Sasquatch Ski Trail\, Mt. St. Helens\,
  WA
DESCRIPTION:We will be working on the Sasquatch Trail. Most trail tending p
 arties involve light brushing\, tree limbing\, and the hanging of blue dia
 monds.&nbsp\; Meet at Marble Mt. Sno-Park&nbsp\; at 9:30 a.m.&nbsp\; We wi
 ll work until about 2:30 p.m.&nbsp\; You're welcome to help out one day or
  stay and camp out for the full 2 day adventure.\n\nWhat to bring: Bring a
  comfortable pair of gloves to protect your hands (gardening gloves work w
 ell). Wear long pants\, a long sleeved shirt\, and hiking boots.&nbsp\; Ha
 ve bug repellent and sunscreen.&nbsp\; Bring a COVID mask\, glasses or pro
 tective eyewear and work gloves.&nbsp\; If you're staying for both days\, 
 bring your camp gear\, a dinner and a breakfast.\n\n\nONC-PDX will provide
  tools and hard hats\, but quantities are limited. If you have tools that 
 you don’t mind sharing (pruning shears\, long handled loppers\, bow saws
 )\, feel free to bring them.\n\nFinally\, bring a lunch\, snacks and lots 
 of water\, as you are sure to work up an appetite.\n\nEach person or famil
 y unit must drive in separate cars ( SORRY no Carpools)..\n\nSign up below
  or for more info contact the leader: Ken Wenzel 503.729.6571 (call or tex
 t) skiwenzel@hotmail.com\n\nSelect the number of spaces for all of the peo
 ple in your party and provide their contact information where indicated.\n
 \n&nbsp\;
CATEGORIES:Trail Tending
LOCATION:Marble Mt. Sno-Park\, FR 83\, Mt. St. Helens\, WA\, United States
X-APPLE-STRUCTURED-LOCATION;VALUE=URI;X-ADDRESS=FR 83\, Mt. St. Helens\, WA
 \, United States;X-APPLE-RADIUS=100;X-TITLE=Marble Mt. Sno-Park:geo:0,0
END:VEVENT
BEGIN:VTIMEZONE
TZID:America/Los_Angeles
X-LIC-LOCATION:America/Los_Angeles
BEGIN:DAYLIGHT
DTSTART:20210314T030000
TZOFFSETFROM:-0800
TZOFFSETTO:-0700
TZNAME:PDT
END:DAYLIGHT
END:VTIMEZONE
END:VCALENDAR