BEGIN:VCALENDAR
VERSION:2.0
PRODID:-//wp-events-plugin.com//7.0.5//EN
TZID:America/Los_Angeles
X-WR-TIMEZONE:America/Los_Angeles
BEGIN:VEVENT
UID:931@onc-pdx.org
DTSTART;TZID=America/Los_Angeles;VALUE=DATE:20220925
DTEND;TZID=America/Los_Angeles;VALUE=DATE:20220926
DTSTAMP:20220919T181915Z
URL:https://onc-pdx.org/events/trail-tending-party-weekend-old-man-pass/
SUMMARY:Trail Tending - Old Man Pass\, WA
DESCRIPTION:Join us to help maintain the ski trails at Old Man Pass. Meet a
 t McClellan Meadows Sno-Park&nbsp\; at 9:30 a.m.&nbsp\; We will work until
  about 2:30 p.m.\n\nMost trail tending work parties involve light brushing
 \, tree limbing\, and the hanging of blue diamonds.&nbsp\; We'll supply th
 e tools and hardhats. Sign up below - select the number of spaces for all 
 of the people in your party and provide their contact information where in
 dicated.\n\nWhat to bring: Bring a comfortable pair of gloves to protect y
 our hands (gardening gloves work well). Wear long pants\, a long sleeved s
 hirt\, hiking boots and protective eye wear.&nbsp\; Have bug repellent and
  sunscreen. Bring a COVID-19 mask. Finally\, bring a lunch\, snacks and lo
 ts of water\, as you are sure to work up an appetite.\n\nFor more info\, c
 ontact the leader: Ken Wenzel 503-729-6571 (call or text) skiwenzel@hotmai
 l.com
CATEGORIES:Trail Tending
END:VEVENT
BEGIN:VTIMEZONE
TZID:America/Los_Angeles
X-LIC-LOCATION:America/Los_Angeles
BEGIN:DAYLIGHT
DTSTART:20220313T030000
TZOFFSETFROM:-0800
TZOFFSETTO:-0700
TZNAME:PDT
END:DAYLIGHT
END:VTIMEZONE
END:VCALENDAR