BEGIN:VCALENDAR
VERSION:2.0
PRODID:-//wp-events-plugin.com//7.0.5//EN
TZID:America/Los_Angeles
X-WR-TIMEZONE:America/Los_Angeles
BEGIN:VEVENT
UID:777@onc-pdx.org
DTSTART;TZID=America/Los_Angeles:20210616T093000
DTEND;TZID=America/Los_Angeles:20210616T143000
DTSTAMP:20210407T204904Z
URL:https://onc-pdx.org/events/trail-tending-party-marble-mt-ski-trails-mt
 -st-helens-wa/
SUMMARY:Trail Tending Party - Kalama Ski Trail\, Mt. St. Helens\, WA
DESCRIPTION:We will be working on the Kalama Trail between the Climbers Roa
 d and Red Rock Pass. Most trail tending parties involve light brushing\, t
 ree limbing\, and the hanging of blue diamonds.&nbsp\; Meet at Marble Mt. 
 Sno-Park&nbsp\; at 9:30 a.m.&nbsp\; We will work until about 2:30 p.m.\n\n
 What to bring: Bring a comfortable pair of gloves to protect your hands (g
 ardening gloves work well). Wear long pants\, a long sleeved shirt\, and h
 iking boots.&nbsp\; Have bug repellent and sunscreen.&nbsp\; Bring a COVID
  mask\, glasses or protective eyewear and work gloves.\n\nONC-PDX will pro
 vide tools and hard hats\, but quantities are limited. If you have tools t
 hat you don’t mind sharing (pruning shears\, long handled loppers\, bow 
 saws)\, feel free to bring them.\n\nFinally\, bring a lunch\, snacks and l
 ots of water\, as you are sure to work up an appetite.\n\nEach person or f
 amily unit must drive in separate cars ( SORRY no Carpools). Meet at the M
 arble Mt. Sno-Park at 9:30am.\n\nSign up below or for more info contact th
 e leader: Ken Wenzel 503.729.6571 (call or text) skiwenzel@hotmail.com\n\n
 Select the number of spaces for all of the people in your party and provid
 e their contact information where indicated.\n\n&nbsp\;
CATEGORIES:Trail Tending
LOCATION:Marble Mt. Sno-Park\, FR 83\, Mt. St. Helens\, WA\, United States
X-APPLE-STRUCTURED-LOCATION;VALUE=URI;X-ADDRESS=FR 83\, Mt. St. Helens\, WA
 \, United States;X-APPLE-RADIUS=100;X-TITLE=Marble Mt. Sno-Park:geo:0,0
END:VEVENT
BEGIN:VTIMEZONE
TZID:America/Los_Angeles
X-LIC-LOCATION:America/Los_Angeles
BEGIN:DAYLIGHT
DTSTART:20210314T030000
TZOFFSETFROM:-0800
TZOFFSETTO:-0700
TZNAME:PDT
END:DAYLIGHT
END:VTIMEZONE
END:VCALENDAR