BEGIN:VCALENDAR
VERSION:2.0
PRODID:-//wp-events-plugin.com//7.0.5//EN
TZID:America/Los_Angeles
X-WR-TIMEZONE:America/Los_Angeles
BEGIN:VEVENT
UID:930@onc-pdx.org
DTSTART;TZID=America/Los_Angeles:20220820T093000
DTEND;TZID=America/Los_Angeles:20220820T143000
DTSTAMP:20220815T180728Z
URL:https://onc-pdx.org/events/trail-tending-nordic-bypass/
SUMMARY:Trail Tending - Nordic Bypass\, Mt. Hood - Cancelled
DESCRIPTION:Event has been CANCELLED due to heat wave.\n\nWe'll drive up We
 st Leg Rd. to work on the Nordic Bypass on Mt. Hood. Meet at Government Ca
 mp Rest Area&nbsp\; at 9:30 a.m.&nbsp\; We will work until about 2:30 p.m.
 \n\nMost trail tending work parties involve light brushing\, tree limbing\
 , and the hanging of blue diamonds.&nbsp\; We'll supply the tools and hard
 hats.&nbsp\; Sign up below - select the number of spaces for all of the pe
 ople in your party and provide their contact information where indicated.\
 n\nWhat to bring: Bring a comfortable pair of gloves to protect your hands
  (gardening gloves work well). Wear long pants\, a long sleeved shirt\, hi
 king boots and protective eye wear.&nbsp\; Have bug repellent and sunscree
 n. Bring a COVID-19 mask. Finally\, bring a lunch\, snacks and lots of wat
 er\, as you are sure to work up an appetite.\n\nFor more info\, contact th
 e leader: Ken Wenzel 503-729-6571 (call or text) skiwenzel@hotmail.com\nMo
 ve to Trash
CATEGORIES:Trail Tending
END:VEVENT
BEGIN:VTIMEZONE
TZID:America/Los_Angeles
X-LIC-LOCATION:America/Los_Angeles
BEGIN:DAYLIGHT
DTSTART:20220313T030000
TZOFFSETFROM:-0800
TZOFFSETTO:-0700
TZNAME:PDT
END:DAYLIGHT
END:VTIMEZONE
END:VCALENDAR