BEGIN:VCALENDAR
VERSION:2.0
PRODID:-//wp-events-plugin.com//7.0.5//EN
TZID:America/Los_Angeles
X-WR-TIMEZONE:America/Los_Angeles
BEGIN:VEVENT
UID:969@onc-pdx.org
DTSTART;TZID=America/Los_Angeles:20221023T073000
DTEND;TZID=America/Los_Angeles:20221023T170000
DTSTAMP:20221022T141031Z
URL:https://onc-pdx.org/events/trail-tending-natural-bridges-loop-trout-la
 ke-wa/
SUMMARY:Trail Tending - Natural Bridges Loop – Trout Lake\, WA
DESCRIPTION:Meeting Locations Troutdale at 7:30 AM \, Trout lake Ranger Sta
 tion 8:45 AM Atkisson Snow Park 9 AM\n\nJoin us to work on the Natural Bri
 dges Loop in the Mt. Adams area. Meet at Columbia Gorge Outlets Mall in Tr
 outdale at 7:30 am or Trout Lake Ranger Station at 8:45 or Atkisson Sno-Pa
 rk at 9:00.&nbsp\; We will work until about 2:30 p.m.&nbsp\;\n\nMost trail
  tending work parties involve light brushing\, tree limbing\, and the hang
 ing of blue diamonds. We'll supply the tools and hardhats. Sign up below -
  select the number of spaces for all of the people in your party and provi
 de their contact information where indicated.\n\nWhat to bring: Bring ligh
 t rain coat\, fleece shirt or jacket.&nbsp\; Bring a comfortable pair of g
 loves to protect your hands (gardening gloves work well). Wear long pants\
 , a long sleeved shirt\, hiking boots and protective eye wear.&nbsp\; Have
  bug repellent and sunscreen. Bring a COVID-19 mask. Finally\, bring a lun
 ch\, snacks and lots of water\, as you are sure to work up an appetite.\nO
 NC Provides the Tools and Hard Hats.\n\nFor more info\, contact the leader
 : Ken Wenzel 503-729-6571 (call or text) skiwenzel@hotmail.com\n\n&nbsp\;
CATEGORIES:Trail Tending
END:VEVENT
BEGIN:VTIMEZONE
TZID:America/Los_Angeles
X-LIC-LOCATION:America/Los_Angeles
BEGIN:DAYLIGHT
DTSTART:20220313T030000
TZOFFSETFROM:-0800
TZOFFSETTO:-0700
TZNAME:PDT
END:DAYLIGHT
END:VTIMEZONE
END:VCALENDAR