BEGIN:VCALENDAR
VERSION:2.0
PRODID:-//wp-events-plugin.com//7.0.5//EN
TZID:America/Los_Angeles
X-WR-TIMEZONE:America/Los_Angeles
BEGIN:VEVENT
UID:925@onc-pdx.org
DTSTART;TZID=America/Los_Angeles:20220716T093000
DTEND;TZID=America/Los_Angeles:20220716T143000
DTSTAMP:20220427T131538Z
URL:https://onc-pdx.org/events/trail-tending-crosstown-camp-creek/
SUMMARY:Trail Tending - Crosstown and Camp Creek Trails
DESCRIPTION:We will be working on Crosstown and Camp Creek trails. Meet at 
 9:30 am near Summit ski lodge at the Government Camp Rest Area.&nbsp\; We 
 will work until about 2:30 p.m.\n\nMost trail tending work parties involve
  light brushing\, tree limbing\, and the hanging of blue diamonds.&nbsp\; 
 We'll supply the tools and hardhats. Sign up below - select the number of 
 spaces for all of the people in your party and provide their contact infor
 mation where indicated.\n\nWhat to bring: Bring a comfortable pair of glov
 es to protect your hands (gardening gloves work well). Wear long pants\, a
  long sleeved shirt\, hiking boots and protective eye wear.&nbsp\; Have bu
 g repellent and sunscreen. Bring a COVID-19 mask. Finally\, bring a lunch\
 , snacks and lots of water\, as you are sure to work up an appetite.\n\nFo
 r more info\, contact the leader: Ken Wenzel 503-729-6571 (call or text) s
 kiwenzel@hotmail.com
CATEGORIES:Trail Tending
END:VEVENT
BEGIN:VTIMEZONE
TZID:America/Los_Angeles
X-LIC-LOCATION:America/Los_Angeles
BEGIN:DAYLIGHT
DTSTART:20220313T030000
TZOFFSETFROM:-0800
TZOFFSETTO:-0700
TZNAME:PDT
END:DAYLIGHT
END:VTIMEZONE
END:VCALENDAR