BEGIN:VCALENDAR
VERSION:2.0
PRODID:-//wp-events-plugin.com//7.0.5//EN
TZID:America/Los_Angeles
X-WR-TIMEZONE:America/Los_Angeles
BEGIN:VEVENT
UID:924@onc-pdx.org
DTSTART;TZID=America/Los_Angeles:20220614T093000
DTEND;TZID=America/Los_Angeles:20220614T143000
DTSTAMP:20220528T191115Z
URL:https://onc-pdx.org/events/trail-tending-atkinson-snow-park-mt-adams/
SUMMARY:Trail Tending - Atkinson Snow Park\, Mt. Adams
DESCRIPTION:Join us to work on the Lava Cave Loop. Meet at Atkinson Sno-par
 k&nbsp\; at 9:30 a.m.&nbsp\; We will work until about 2:30 p.m.&nbsp\;\n\n
 Most trail tending work parties involve light brushing\, tree limbing\, an
 d the hanging of blue diamonds. We'll supply the tools and hardhats. Sign 
 up below - select the number of spaces for all of the people in your party
  and provide their contact information where indicated.\n\nWhat to bring: 
 Bring a comfortable pair of gloves to protect your hands (gardening gloves
  work well). Wear long pants\, a long sleeved shirt\, hiking boots and pro
 tective eye wear.&nbsp\; Have bug repellent and sunscreen. Bring a COVID-1
 9 mask. Finally\, bring a lunch\, snacks and lots of water\, as you are su
 re to work up an appetite.\n\nFor more info\, contact the leader: Ken Wenz
 el 503-729-6571 (call or text) skiwenzel@hotmail.com\n\n&nbsp\;
CATEGORIES:Trail Tending
END:VEVENT
BEGIN:VTIMEZONE
TZID:America/Los_Angeles
X-LIC-LOCATION:America/Los_Angeles
BEGIN:DAYLIGHT
DTSTART:20220313T030000
TZOFFSETFROM:-0800
TZOFFSETTO:-0700
TZNAME:PDT
END:DAYLIGHT
END:VTIMEZONE
END:VCALENDAR