BEGIN:VCALENDAR
VERSION:2.0
PRODID:-//wp-events-plugin.com//7.0.5//EN
TZID:America/Los_Angeles
X-WR-TIMEZONE:America/Los_Angeles
BEGIN:VEVENT
UID:822@onc-pdx.org
DTSTART;TZID=America/Los_Angeles:20210722T100000
DTEND;TZID=America/Los_Angeles:20210722T140000
DTSTAMP:20210718T001200Z
URL:https://onc-pdx.org/events/toot-toot-toot-trolley-trail-bike-ride/
SUMMARY:Toot\, Toot\, Toot! Trolley Trail Bike Ride
DESCRIPTION:Come enjoy a bike ride this Thursday\, July 22\, on the famous 
 Trolley Trail\, along converted trolley tracks from Milwaukie to Oregon Ci
 ty. The ride is on mostly fairly level paved bike trails\, with some some 
 low-traffic surface streets\, and a few crossings with lights.\nWe will le
 ave from my house in SW Portland (address given with RSVP - plenty of park
 ing)\, down through the Riverdale Cemetery\, over the Sellwood Bridge\, th
 en south on the Springwater Corridor to the Trolley Trail to Oregon City. 
 We will probably stop for lunch at local food carts. Depending on the grou
 p's preference\, we may return the same way OR along the bike route and pa
 ths along the west side of the Willamette River\, through West Linn and La
 ke Oswego\, and up through Tryon State Park Bike Path (uphill) back to my 
 house.\nWe will be able to pick organic blackberries in my yard at the end
  of the ride.\nTotal distance is about 20 miles\, mostly flat (easy) excep
 t for one hill\, riding about 10-12 mph (intermediate). Ride time of about
  3 hours. We will regroup at major points with stops for bathroom breaks. 
 Plan to start riding by 10 am and finish about 2 pm or so with stops. Weat
 her forecast is for sunny\, warming to about 82. Should be beautiful. Brin
 g water\, snacks\, sunscreen\, helmet\, repair gear\, $$\, a mask (in case
 )\, and be COVID-free and vaccinated.\nMy house is 2 blocks from the top o
 f the Riverdale Cemetery Hill\, near Lewis and Clark College\, off Terwill
 iger Blvd. Directions will be sent after signup. Please email me for any q
 uestions. Hope to see you. Ted Scheinman\, tedskier@gmail.com.\n&nbsp\;
CATEGORIES:Biking
END:VEVENT
BEGIN:VTIMEZONE
TZID:America/Los_Angeles
X-LIC-LOCATION:America/Los_Angeles
BEGIN:DAYLIGHT
DTSTART:20210314T030000
TZOFFSETFROM:-0800
TZOFFSETTO:-0700
TZNAME:PDT
END:DAYLIGHT
END:VTIMEZONE
END:VCALENDAR