BEGIN:VCALENDAR
VERSION:2.0
PRODID:-//wp-events-plugin.com//7.0.5//EN
TZID:America/Los_Angeles
X-WR-TIMEZONE:America/Los_Angeles
BEGIN:VEVENT
UID:721@onc-pdx.org
DTSTART;TZID=America/Los_Angeles:20200218T103000
DTEND;TZID=America/Los_Angeles:20200218T163000
DTSTAMP:20200118T044441Z
URL:https://onc-pdx.org/events/timberline-to-west-leg-ski-tour-7/
SUMMARY:Timberline to West Leg ski tour
DESCRIPTION:Timberline Lodge West Leg Road and downhill ski runs. You have 
 beginner to expert Terrain. Will do what the group wants to do. We'll star
 t out with a lesson on what every cross country skier should be able to do
 . I want to do This Day Tour every Tuesday in January.Contact tour leader 
 John Heaton: john.heatonskier@gmail.com
CATEGORIES:Cross Country Ski
LOCATION:Timberline Lodge\,  27500 W Leg Rd\, Timberline Lodge\, OR\, 97028
 \, United States
GEO:45.249638;-121.733582
X-APPLE-STRUCTURED-LOCATION;VALUE=URI;X-ADDRESS= 27500 W Leg Rd\, Timberlin
 e Lodge\, OR\, 97028\, United States;X-APPLE-RADIUS=100;X-TITLE=Timberline
  Lodge:geo:45.249638,-121.733582
END:VEVENT
BEGIN:VTIMEZONE
TZID:America/Los_Angeles
X-LIC-LOCATION:America/Los_Angeles
BEGIN:STANDARD
DTSTART:20191103T010000
TZOFFSETFROM:-0700
TZOFFSETTO:-0800
TZNAME:PST
END:STANDARD
END:VTIMEZONE
END:VCALENDAR