BEGIN:VCALENDAR
VERSION:2.0
PRODID:-//wp-events-plugin.com//7.0.5//EN
TZID:America/Los_Angeles
X-WR-TIMEZONE:America/Los_Angeles
BEGIN:VEVENT
UID:731@onc-pdx.org
DTSTART;TZID=America/Los_Angeles;VALUE=DATE:20200307
DTEND;TZID=America/Los_Angeles;VALUE=DATE:20200308
DTSTAMP:20200304T181629Z
URL:https://onc-pdx.org/events/timberline-to-town-trail/
SUMMARY:Timberline to Town Trail
DESCRIPTION:Enjoy a wide range of snow conditions as we do a loop tour up f
 rom Government Camp to Timberline lodge. The route up should be “interes
 ting” as we climb 2\,000 feet up the Timberline to Town Trail (expect to
  break trail).  At Timberline lodge we’ll have hot chocolate before zoo
 ming back down. The tour is ~12 miles long total and we gain ~2\,000 feet.
  Typically\, it takes about 4 hours to slog up and less than half that tim
 e to zip on down. The tour is rated intermediate\, mostly due to distance 
 but in addition\, you can get some speed going down West Leg road if it is
  icy.To be on this tour you must contact me by e-mail in advance.  I do t
 his so that I can send each potential participant an info packet with more
  info on difficulty and expectations for this tour. Additionally\, I want 
 all your e-mail addresses so that in case the trip is cancelled I can cont
 act everyone.   Sorry for the hassle related with this but I need to ens
 ure a safe tour. Leader: Scott Diamond Email: scott.diamond.mail@gmail.c
 om Mobile: 503.643.6779Meeting time/Place: As noted above\, e-mail me for
  info Dog’s allowed: No Cost: Plan on $20/skier for carpool cost
CATEGORIES:Cross Country Ski
END:VEVENT
BEGIN:VTIMEZONE
TZID:America/Los_Angeles
X-LIC-LOCATION:America/Los_Angeles
BEGIN:STANDARD
DTSTART:20191103T010000
TZOFFSETFROM:-0700
TZOFFSETTO:-0800
TZNAME:PST
END:STANDARD
END:VTIMEZONE
END:VCALENDAR